BEGIN:VCALENDAR
VERSION:2.0
PRODID:-//Gratis-in-Berlin//NONSGML kigkonsult.se iCalcreator 2.14//
METHOD:PUBLISH
X-WR-CALNAME:Gratis-in-Berlin Tip Kalender
X-WR-CALDESC:Erhalte Gratis-in-Berlin Tips in deinem Kalender
BEGIN:VEVENT
UID:20260421T090933UTC-6693GLB4EU@Gratis-in-Berlin
DTSTAMP:20260421T090933Z
DESCRIPTION:Komm zu unserem Kleidertausch während der Fashion Revolution Week
  in der Amerika-Gedenkbibliothek! Bring Teile mit\, die du nicht mehr trägst
  oder aus denen deine Liebsten rausgewachsen sind ? und finde neue Lieblin
 gsstücke!Ohne Geld. Dafür mit Spaß.Was du tauschen kannst? Oberteile? Unterteile? Kop
 fbedeckungen? Taschen? Accessoires? Keine Unterwäsche? Keine BademodeSo funk
 tioniert?sEmpfehlung: bis zu 5 Teile pro Person mitbringen.Alles bitte fri
 sch gewaschen.Nur Kleidung und Accessoires\, ohne Verschleiß und in gutem Z
 ustand.Als Faustregel gilt: Alles\, was du im Freundes- und Familienkreis 
 weitergeben würdest\, ist perfekt für den Tausch!Die Veranstaltung ist kostenfrei un
 d richtet sich an Familien mit Kindern\, Jugendliche und Erwachsene.Mach d
 ich und deinen Kleiderschrank glücklich ? und setze ein Zeichen für bewussteren Kons
 um.© cheriebirkner\n\nViel Spass wünscht Gratis-in-Berlin\n\nLink zum Tip: \nZu 
 den Gratis-in-Berlin Angeboten: http://www.gratis-in-berlin.de\n
DTSTART;VALUE=DATE:20260426
DTEND;VALUE=DATE:20260427
SUMMARY:Tausch dich glücklich | Fashion Revolution Week
END:VEVENT
END:VCALENDAR
