BEGIN:VCALENDAR
VERSION:2.0
PRODID:-//Gratis-in-Berlin//NONSGML kigkonsult.se iCalcreator 2.14//
METHOD:PUBLISH
X-WR-CALNAME:Gratis-in-Berlin Tip Kalender
X-WR-CALDESC:Erhalte Gratis-in-Berlin Tips in deinem Kalender
BEGIN:VEVENT
UID:20260422T101026UTC-0547b7TKXX@Gratis-in-Berlin
DTSTAMP:20260422T101026Z
DESCRIPTION:Wir widmen uns mit viel Improvisation beim freien Zeichnen Them
 en wie Dramaturgie\, Character Design und unterschiedlichen Panelformen. W
 ir entdecken unterschiedliche Comicstile und tauschen uns zu unseren Comic
 -Projekten aus. Das ComicJamLabor ist ein Mentoring-Format und wird beglei
 tet von Comiczeichner Dirk Schwieger. Er ist in der COMIC WEEK und auch be
 i ausgewählten ComicJamLabor-Terminen anwesend\, um beratend beim Entwickeln
  eigener Comic-Projekte zur Seite zu sehen.© Dirk Schwieger\n\nViel Spass w
 ünscht Gratis-in-Berlin\n\nLink zum Tip: https://www.gratis-in-berlin.de/kinder
 -jugendliche/item/2078112-comicjamlabor-comic-week-edition\nZu den Gratis-
 in-Berlin Angeboten: http://www.gratis-in-berlin.de\n
DTSTART;VALUE=DATE:20260509
DTEND;VALUE=DATE:20260510
SUMMARY:ComicJamLabor | COMIC WEEK-Edition
END:VEVENT
END:VCALENDAR
