BEGIN:VCALENDAR
VERSION:2.0
PRODID:-//Gratis-in-Berlin//NONSGML kigkonsult.se iCalcreator 2.14//
METHOD:PUBLISH
X-WR-CALNAME:Gratis-in-Berlin Tip Kalender
X-WR-CALDESC:Erhalte Gratis-in-Berlin Tips in deinem Kalender
BEGIN:VEVENT
UID:20260421T132536UTC-8164EwkfZC@Gratis-in-Berlin
DTSTAMP:20260421T132536Z
DESCRIPTION:IMPROVISATION ? INTERAKTION ? RESONANZKinderohren brauchen gute
  Musik! Und Musik braucht ihren Gegenspieler: die Stille.10.30 Uhr für Kinder z
 wischen 0-3 Jahren und ihre Bezugspersonen12.00 Uhr für Kinder von 3-5 Jahren u
 nd ihre BezugspersonenAus dem bewussten Spiel dieser beiden Pole entsteht 
 ?mobile musiqa!? ? ein ganzheitliches\, interaktives Musikerlebnis aus Tönen\
 , Geräuschen\, Liedern\, Improvisationen und Arrangements von der Renaissanc
 e bis zum Jazz.Inmitten einer vielfarbigen musikalischen Klangwelt werden 
 die Jüngsten selbst zu einem Teil des musikalischen Geschehens\, indem sie durc
 h ihre spontanen Interaktionen zu Impulsgeber*innen für musikalische Abläufe und 
 Improvisationen werden. So erleben die Kinder Musik spielerisch und unmitt
 elbar als natürlichen Teil ihrer Welt und ihrer Selbst.Dauer: ca. 40 Minuten oh
 ne PauseSänger der Kurrende des Staats- und Domchors Berlin / Kelley Sundin-
 Donig\, Cornelia Knoch\, Vocals / Oli Bott\, Vibraphon und Arrangements / 
 Gudrun Gierszal\, Konzeption und LeitungDie Ticketbuchungen werden ab dem 
 15. April freigeschaltet.crescendo ist für alle offen!Der Eintritt ist frei.Wir
  empfehlen eine vorherige Ticketbuchung über diesen Link:https://pretix.eu/udk/
 crescendo26/4893742/\n\nViel Spass wünscht Gratis-in-Berlin\n\nLink zum Tip: ht
 tps://www.gratis-in-berlin.de/spaeter/item/2078284-crescendino-sandkastenk
 onzerte-mobile-musiqa\nZu den Gratis-in-Berlin Angeboten: http://www.grati
 s-in-berlin.de\n
DTSTART;VALUE=DATE:20260613
DTEND;VALUE=DATE:20260614
SUMMARY:crescendino ? Sandkastenkonzerte: ?mobile musiqa!?
END:VEVENT
END:VCALENDAR
