BEGIN:VCALENDAR
VERSION:2.0
PRODID:-//Gratis-in-Berlin//NONSGML kigkonsult.se iCalcreator 2.14//
METHOD:PUBLISH
X-WR-CALNAME:Gratis-in-Berlin Tip Kalender
X-WR-CALDESC:Erhalte Gratis-in-Berlin Tips in deinem Kalender
BEGIN:VEVENT
UID:20260421T111015UTC-5899biSoLP@Gratis-in-Berlin
DTSTAMP:20260421T111015Z
DESCRIPTION:Gemeinsam entdecken wir spielerisch Klänge\, Rhythmen und Lieder.
  Mit einfachen Instrumenten\, Bewegung und viel Freude am Musizieren erleb
 en Kinder und Babys zusammen mit ihren Begleitpersonen die Welt der Musik.
 Wir freuen uns auf euch!\n\nViel Spass wünscht Gratis-in-Berlin\n\nLink zum Tip
 : \nZu den Gratis-in-Berlin Angeboten: http://www.gratis-in-berlin.de\n
DTSTART;VALUE=DATE:20260425
DTEND;VALUE=DATE:20260426
SUMMARY:MuKiBa: musikalische Workshop für Kinder und Babies!
END:VEVENT
END:VCALENDAR
