BEGIN:VCALENDAR
VERSION:2.0
PRODID:-//Gratis-in-Berlin//NONSGML kigkonsult.se iCalcreator 2.14//
METHOD:PUBLISH
X-WR-CALNAME:Gratis-in-Berlin Tip Kalender
X-WR-CALDESC:Erhalte Gratis-in-Berlin Tips in deinem Kalender
BEGIN:VEVENT
UID:20260420T094354UTC-2857HZazrF@Gratis-in-Berlin
DTSTAMP:20260420T094354Z
DESCRIPTION:12:30 Uhr ? \n\nViel Spass wünscht Gratis-in-Berlin\n\nLink zum Tip:
  \nZu den Gratis-in-Berlin Angeboten: http://www.gratis-in-berlin.de\n
DTSTART;VALUE=DATE:20260509
DTEND;VALUE=DATE:20260510
SUMMARY:Kidical Mass Friedrichshain Kreuzberg Fahrraddemo für Kinder
END:VEVENT
END:VCALENDAR
