BEGIN:VCALENDAR
VERSION:2.0
PRODID:-//Gratis-in-Berlin//NONSGML kigkonsult.se iCalcreator 2.14//
METHOD:PUBLISH
X-WR-CALNAME:Gratis-in-Berlin Tip Kalender
X-WR-CALDESC:Erhalte Gratis-in-Berlin Tips in deinem Kalender
BEGIN:VEVENT
UID:20260420T132051UTC-0049G649Rk@Gratis-in-Berlin
DTSTAMP:20260420T132051Z
DESCRIPTION:Platz für Straßenmalkreide\, Stelzen\, Roller und Co.: Am Freitag\, 2
 4. April\, startet die erste temporäre Spielstraße im Wedding in die Saison. 
 Von 15 bis 19 Uhr ist die Glasgower Straße zwischen Schöningstraße und Dubliner
  Straße für den üblichen Verkehr gesperrt und als Spielzone für Kinder und Familien freige
 geben. Mit Fahrradwerkstatt.\n\nViel Spass wünscht Gratis-in-Berlin\n\nLink zum
  Tip: \nZu den Gratis-in-Berlin Angeboten: http://www.gratis-in-berlin.de
 \n
DTSTART;VALUE=DATE:20260424
DTEND;VALUE=DATE:20260425
SUMMARY:Spielstraßenaktion in der Glasgower Straße 1/5
END:VEVENT
END:VCALENDAR
