BEGIN:VCALENDAR
VERSION:2.0
PRODID:-//Gratis-in-Berlin//NONSGML kigkonsult.se iCalcreator 2.14//
METHOD:PUBLISH
X-WR-CALNAME:Gratis-in-Berlin Tip Kalender
X-WR-CALDESC:Erhalte Gratis-in-Berlin Tips in deinem Kalender
BEGIN:VEVENT
UID:20260420T143200UTC-93709ojguf@Gratis-in-Berlin
DTSTAMP:20260420T143200Z
DESCRIPTION:Platz für Straßenmalkreide\, Stelzen\, Roller und Co.: Am Freitag\, 2
 6. Juni\, findet die nächste temporäre Spielstraße im Englischen Viertel im Wed
 ding statt. Von 15 bis 19 Uhr ist die Glasgower Straße zwischen Schöningstraße 
 und Dubliner Straße für den üblichen Verkehr gesperrt und als Spielzone für Kinder und Fam
 ilien freigegeben. Mit Puppentheater Fingerleicht um 16.30 Uhr\n\nViel Spa
 ss wünscht Gratis-in-Berlin\n\nLink zum Tip: \nZu den Gratis-in-Berlin Angebote
 n: http://www.gratis-in-berlin.de\n
DTSTART;VALUE=DATE:20260626
DTEND;VALUE=DATE:20260627
SUMMARY:Spielstraßenaktion in der Glasgower Straße 3/5
END:VEVENT
END:VCALENDAR
