BEGIN:VCALENDAR
VERSION:2.0
PRODID:-//Gratis-in-Berlin//NONSGML kigkonsult.se iCalcreator 2.14//
METHOD:PUBLISH
X-WR-CALNAME:Gratis-in-Berlin Tip Kalender
X-WR-CALDESC:Erhalte Gratis-in-Berlin Tips in deinem Kalender
BEGIN:VEVENT
UID:20260420T131929UTC-1447UUwwju@Gratis-in-Berlin
DTSTAMP:20260420T131929Z
DESCRIPTION:Platz für Straßenmalkreide\, Stelzen\, Roller und Co.: Am Freitag\, 2
 8. August\, findet die nächste temporäre Spielstraße im Englischen Viertel im W
 edding statt. Von 15 bis 19 Uhr ist die Glasgower Straße zwischen Schöningstra
 ße und Dubliner Straße für den üblichen Verkehr gesperrt und als Spielzone für Kinder und F
 amilien freigegeben.&nbsp\;\n\nViel Spass wünscht Gratis-in-Berlin\n\nLink zum 
 Tip: \nZu den Gratis-in-Berlin Angeboten: http://www.gratis-in-berlin.de\n
DTSTART;VALUE=DATE:20260828
DTEND;VALUE=DATE:20260829
SUMMARY:Spielstraßenaktion in der Glasgower Straße 4/5
END:VEVENT
END:VCALENDAR
