BEGIN:VCALENDAR
VERSION:2.0
PRODID:-//Gratis-in-Berlin//NONSGML kigkonsult.se iCalcreator 2.14//
METHOD:PUBLISH
X-WR-CALNAME:Gratis-in-Berlin Tip Kalender
X-WR-CALDESC:Erhalte Gratis-in-Berlin Tips in deinem Kalender
BEGIN:VEVENT
UID:20260420T131717UTC-7817a5MZ5C@Gratis-in-Berlin
DTSTAMP:20260420T131717Z
DESCRIPTION:Platz für Straßenmalkreide\, Stelzen\, Roller und Co.: Am Freitag\, 2
 . Oktober\, findet die nächste temporäre Spielstraße im Englischen Viertel im W
 edding statt. Von 15 bis 19 Uhr ist die Glasgower Straße zwischen Schöningstra
 ße und Dubliner Straße für den üblichen Verkehr gesperrt und als Spielzone für Kinder und F
 amilien freigegeben. Mit Puppentheater Fingerleicht um 16.30 Uhr.\n\nViel 
 Spass wünscht Gratis-in-Berlin\n\nLink zum Tip: \nZu den Gratis-in-Berlin Angeb
 oten: http://www.gratis-in-berlin.de\n
DTSTART;VALUE=DATE:20261002
DTEND;VALUE=DATE:20261003
SUMMARY:Spielstraßenaktion in der Glasgower Straße 5/5
END:VEVENT
END:VCALENDAR
