BEGIN:VCALENDAR
VERSION:2.0
PRODID:-//Gratis-in-Berlin//NONSGML kigkonsult.se iCalcreator 2.14//
METHOD:PUBLISH
X-WR-CALNAME:Gratis-in-Berlin Tip Kalender
X-WR-CALDESC:Erhalte Gratis-in-Berlin Tips in deinem Kalender
BEGIN:VEVENT
UID:20260420T153749UTC-4263DpuLj3@Gratis-in-Berlin
DTSTAMP:20260420T153749Z
DESCRIPTION:Am 9. Mai ist es wieder so weit: Beim Gratis Comic Tag werden i
 n Deutschland\, Österreich und der Schweiz speziell produzierte Comics kost
 enlos verteilt. Auch bei uns in der Philipp-Schaeffer-Bibliothek. Entdecke
  die Vielfalt des Mediums und lerne neue Geschichten und Figuren kennen! F
 reu dich auf 22 spannende Comics ? von Superhelden über Disney-Stars bis hin zu
  ganz neuen Abenteuern. Viele Hefte enthalten exklusive Storys\, erste Kap
 itel oder besondere Einblicke\, die es nur an diesem Tag gibt. Die Auswahl
  richtet sich vor allem an Kinder von 6 bis 14 Jahren\, begeistert aber ge
 nauso alle Comic-Fans ? egal ob jung oder jung geblieben. Komm vorbei\, su
 ch dir deine Comics aus und tauche kostenlos in neue Welten ein! Diese Ges
 chichten warten darauf\, von dir entdeckt zu werden: https://gratiscomicta
 g.de/comics/ Kostenfrei! Begrenzte Anzahl/Mitnahme von Comicexemplaren pro
  Person.Solange der Vorrat reicht!\n\nViel Spass wünscht Gratis-in-Berlin\n\nLi
 nk zum Tip: \nZu den Gratis-in-Berlin Angeboten: http://www.gratis-in-berl
 in.de\n
DTSTART;VALUE=DATE:20260509
DTEND;VALUE=DATE:20260510
SUMMARY:Gratis Comic Tag 2026 ? Sei dabei!
END:VEVENT
END:VCALENDAR
