BEGIN:VCALENDAR
VERSION:2.0
PRODID:-//Gratis-in-Berlin//NONSGML kigkonsult.se iCalcreator 2.14//
METHOD:PUBLISH
X-WR-CALNAME:Gratis-in-Berlin Tip Kalender
X-WR-CALDESC:Erhalte Gratis-in-Berlin Tips in deinem Kalender
BEGIN:VEVENT
UID:20260421T154040UTC-0489SZCbk0@Gratis-in-Berlin
DTSTAMP:20260421T154040Z
DESCRIPTION:Wir gestalten Plakate!Wie sieht deine Traumbibliothek der Zukun
 ft aus? Welche Räume\, Medien oder besonderen Extras darf sie auf keinen Fal
 l missen? Lass' deiner Kreativität freien Lauf und gestalte mit uns die Bibl
 iothek von morgen!Workshop für alle ab 6 Jahren\, Jugendliche und Erwachsene.Ki
 nder unter 6 Jahren sollten gemeinsam mit ihren Eltern gestalten.\n\nViel 
 Spass wünscht Gratis-in-Berlin\n\nLink zum Tip: \nZu den Gratis-in-Berlin Angeb
 oten: http://www.gratis-in-berlin.de\n
DTSTART;VALUE=DATE:20260607
DTEND;VALUE=DATE:20260608
SUMMARY:Die Bibliothek der Zukunft - Gestalte deine Traumbibliothek
END:VEVENT
END:VCALENDAR
