BEGIN:VCALENDAR
VERSION:2.0
PRODID:-//Gratis-in-Berlin//NONSGML kigkonsult.se iCalcreator 2.14//
METHOD:PUBLISH
X-WR-CALNAME:Gratis-in-Berlin Tip Kalender
X-WR-CALDESC:Erhalte Gratis-in-Berlin Tips in deinem Kalender
BEGIN:VEVENT
UID:20260421T184017UTC-5202VaHu2J@Gratis-in-Berlin
DTSTAMP:20260421T184017Z
DESCRIPTION:Abschluss-Ausstellung &amp\; Begleitprogramm in der Humboldt-Bi
 bliothek (14:30 - 18 Uhr)!Forschen\, bauen\, programmieren! Zehn Teams aus
  vier Grundschulen präsentieren ihre kreativen Robotik-Ideen aus der Welt de
 r Archäologie und eine Jury wählt anschließend das Gewinnerteam aus!FIRST® LEGO® 
 League ist ein globales Bildungsprogramm\, das Kindern und Jugendlichen ei
 nen Einstieg in die Bereiche Robotik und Forschung ermöglicht. Es weckt ihr I
 nteresse an MINT und stärkt ihre Kommunikations- und Teamfähigkeit.Jedes Jahr 
 steht das Programm unter einem spannenden Saisonthema\, das die Teilnehmen
 den herausfordert\, innovative Lösungen zu entwickeln und kreative Fähigkeiten 
 zu entfalten. Dabei entdecken sie auch spielerisch die Welt der Programmie
 rung mithilfe eines LEGO® Education Robotik-Sets und entwickeln ein motoris
 iertes LEGO®-Modell.HANDS on TECHNOLOGY e. V. setzt seit 2002 das MINT-Bild
 ungsprogramm FIRST® LEGO® League erfolgreich um. Das Ziel ist es\, zusammen 
 mit einem internationalen Netzwerk aus Bildungsinstitutionen\, Kinder und 
 Jugendliche für Wissenschaft und Technik zu begeistern.Gefördert durch OTIS GmbH.
 \n\nViel Spass wünscht Gratis-in-Berlin\n\nLink zum Tip: \nZu den Gratis-in-Ber
 lin Angeboten: http://www.gratis-in-berlin.de\n
DTSTART;VALUE=DATE:20260528
DTEND;VALUE=DATE:20260529
SUMMARY:FIRST® LEGO® League Explore
END:VEVENT
END:VCALENDAR
