BEGIN:VCALENDAR
VERSION:2.0
PRODID:-//Gratis-in-Berlin//NONSGML kigkonsult.se iCalcreator 2.14//
METHOD:PUBLISH
X-WR-CALNAME:Gratis-in-Berlin Tip Kalender
X-WR-CALDESC:Erhalte Gratis-in-Berlin Tips in deinem Kalender
BEGIN:VEVENT
UID:20260421T134543UTC-7120kvVlOA@Gratis-in-Berlin
DTSTAMP:20260421T134543Z
DESCRIPTION:An Vielfalt und Stimmung nicht zu schlagen lädt der Antikevent zu
 m gemeinsamen Stöbern ein. Raritätenfaktor sehr hoch! Gehobene Trödelkultur par ex
 cellence. Ob Seltenes\, Wertvolles oder Originelles\, der polyglotte Markt
  zum Feiertag gilt als einer der bestsortiertesten weit und breit. Der Ein
 tritt für Besucher ist frei ! Abstand halten\, Maske bei und auf zur traditione
 llen Raritätensuche oder bis dahin ist alles gefallen INFO www.oldthing.de/b
 erlinEin Muss für jeden Antik-\, Design\, Nostagie- &amp\; Retrofan !Wir erwart
 en mehr als 300 Händler aus allen Bundesländern und dem Ausland mit alten Möbel\,
  interessanten Antiquitäten\, herausragendem Möbel- &amp\; Produkt-Design\, Kun
 st und schrägem Second Hand. Internationale Imbisse\, Cafemobile und frisch 
 gezapftes Bier sorgen fürs leibliche Wohl.Extrabreite Besucherwege machen die V
 eranstaltung sicher und erfolgreich zugleich.HÄNDLER kommen mit frischer Wa
 re aus ganz Deutschland (Kfz + Übernachtung vor Ort am Stand möglich und BUCHE
 N Ihre Standfläche hier &gt\; www.oldthing.de/riesenflohmarktEine weitere At
 traktion ist die Antikhalle. Von allen Wettern geschützt werden im Saal der Tri
 bünenhalle 30 Händler &amp\; Sammler Antikes\, Design und Sammlersachen anbieten.
 Infos und Anmeldung https://oldthing.de/riesenflohmarkt#antiquitäten #flohma
 rkt #antikmarkt #nostalgiemarkt #antikmeile#berlin #retromarkt #vintage #5
 0er #40er #30er #20er #designmarkt #designevent #vintage #vintagelover #de
 signer #midcentury #bauhaus #instahome #bohemian #interiordesign #furnitur
 e #retro #bauhauslove #ostalgie #ddr #trabrennbahnkarlshorst #midcentury #
 sammler #trash #oldthing #trödelmarkt #design #Secondhand #sammeln #raritäten #
 kunst #börse #riesenflohmarkt\n\nViel Spass wünscht Gratis-in-Berlin\n\nLink zum T
 ip: \nZu den Gratis-in-Berlin Angeboten: http://www.gratis-in-berlin.de\n
DTSTART;VALUE=DATE:20260502
DTEND;VALUE=DATE:20260504
SUMMARY:Antikgroßflohmarkt Trabrennbahn Karlshorst 
END:VEVENT
END:VCALENDAR
