BEGIN:VCALENDAR
VERSION:2.0
PRODID:-//Gratis-in-Berlin//NONSGML kigkonsult.se iCalcreator 2.14//
METHOD:PUBLISH
X-WR-CALNAME:Gratis-in-Berlin Tip Kalender
X-WR-CALDESC:Erhalte Gratis-in-Berlin Tips in deinem Kalender
BEGIN:VEVENT
UID:20260421T134016UTC-8711vht5VU@Gratis-in-Berlin
DTSTAMP:20260421T134016Z
DESCRIPTION:Sprechstunde für die NachbarschaftKaputtes reparierenLöcher zunähenKleidu
 ng auffrischenkostenlos | mit Anmeldung unter: wir-kreativhaus@fippev.de\n
 \nViel Spass wünscht Gratis-in-Berlin\n\nLink zum Tip: https://www.gratis-in-be
 rlin.de/aktueller-monat/item/2029058-der-fundus-im-kreativhaus\nZu den Gra
 tis-in-Berlin Angeboten: http://www.gratis-in-berlin.de\n
DTSTART;VALUE=DATE:20260424
DTEND;VALUE=DATE:20260425
SUMMARY:Textil-Zeit mit Cathy
END:VEVENT
END:VCALENDAR
