BEGIN:VCALENDAR
VERSION:2.0
PRODID:-//Gratis-in-Berlin//NONSGML kigkonsult.se iCalcreator 2.14//
METHOD:PUBLISH
X-WR-CALNAME:Gratis-in-Berlin Tip Kalender
X-WR-CALDESC:Erhalte Gratis-in-Berlin Tips in deinem Kalender
BEGIN:VEVENT
UID:20260422T151010UTC-6519kK1h0g@Gratis-in-Berlin
DTSTAMP:20260422T151010Z
DESCRIPTION:Wir möchten Euch herzlich einladen an den Sommer-Meditationen der 
 Energieeinheit über den Dächern Charlottenburgs teilzunehmen!Thema: Anleitung zur
  SelbstheilungIhr erlernt verschiedene Achtsamkeits- und Konzentrationsübungen\
 , sowie Meditationstechniken zur Tiefenentspannung\, Reinigung\, Chakraöffnun
 g und Bewusstseinserweiterung. In einem geschützten und energetisch aufgeladene
 n Raum begeben wir uns gemeinsam auf Reisen\, Reisen zu wunderbaren Selbst
 erfahrungen\, Reisen zu Deinem wahren Inneren\, deren Erlebnisse in der Gr
 uppe geteilt werden können.Abgerundet wird der Abend mit einer Feuerzeremonie
  der HOMA-Therapie* und gemeinsamen Mantrasingen. Gern könnt Ihr Gegenstände je
 glicher Art (z.B. Edelsteine\, Schmuck\, Pflanzen\, Nahrungsmittel\, Flasc
 he Wasser) mitbringen\, um diese durch die Feuertechniken reinigen und auf
 zuladen zu lassen.Die Meditationen eignen sich auch für Meditations-Neulinge!\n
 Gern könnt Ihr Eure eigene Agnihotra-Schale mitbringen.\, solltet ihr ebenfal
 l praktizieren.Termine: jeden Dienstag von 19:30 - ca. 21:00 Uhr\, Einlass
  ab 19:15 UhrDa die Teilnehmerzahl begrenzt ist\, meldet Euch bitte unbedi
 ngt an. (*Agnihotra oder TryambakamInfo: Die HOMA-Therapie sind indische F
 euertechniken\, die ihren Ursprung bereits in den Veden haben. Diese Techn
 iken dienen zur Reinigung der Athmosphäre\, der Erde\, der Luft und des Wass
 ers. Sie reinigen und regenerieren außerdem den Körper\, das Energiefeld und d
 ie Psyche von Mensch und Tier. Die Kraft eines solchen Rituals ist von eno
 rmer Stärke und bringt einen positiven Energieschub!)Für die Teilnahme wird um ei
 ne Spende gebeten.Wir freuen uns auf Euch!Bianca &amp\; AnnikaBitte anmeld
 en unter annika.aum@energieeinheit-berlin.de oder bianca.wegner@energieein
 ehit-berlin.de oder \n\nViel Spass wünscht Gratis-in-Berlin\n\nLink zum Tip: ht
 tps://www.gratis-in-berlin.de/schatztruhe/item/2031286-meditation-und-feue
 rzeremonie\nZu den Gratis-in-Berlin Angeboten: http://www.gratis-in-berlin
 .de\n
DTSTART;VALUE=DATE:20170523
DTEND;VALUE=DATE:20170726
SUMMARY:Meditation und Feuerzeremonie 
END:VEVENT
END:VCALENDAR
