BEGIN:VCALENDAR
VERSION:2.0
PRODID:-//Gratis-in-Berlin//NONSGML kigkonsult.se iCalcreator 2.14//
METHOD:PUBLISH
X-WR-CALNAME:Gratis-in-Berlin Tip Kalender
X-WR-CALDESC:Erhalte Gratis-in-Berlin Tips in deinem Kalender
BEGIN:VEVENT
UID:20260421T182231UTC-9879zZxmgR@Gratis-in-Berlin
DTSTAMP:20260421T182231Z
DESCRIPTION:Am Himmel über Berlin und auch anderswo zeigen sich in diesen Tagen 
 Sternschnuppen. Sternschnuppen sind morgens grundsätzlich besser zu beobacht
 en. Die Stunden zwischen Mitternacht und Sonnenaufgang sind daher am aussi
 chtsreichsten. Nach 12 bis in die frühen Morgenstunden wohl die meisten.&nbsp\;
 Der Höhepunkt des Lyriden- Schauers findet in diesem Jahr in der Nacht von Mi
 ttwoch auf Donnerstag statt.Villeicht findest Du bei unseren&nbsp\;Aussich
 tspunkten Inspirationen zur Himmelsbeobachtung(Fettschrift = klickbarer Li
 nk) Also dann mal schon Wünsche bereithalten! :-). Die Nacht soll bei gutem Wet
 ter klar werden\, im Umland von Berlin sieht man natürlich noch mehr von den Sc
 hnuppen.Nach den Lyriden kommt später im Jahr w Sternschnuppenschauer der Pe
 rseiden dran. \n\nViel Spass wünscht Gratis-in-Berlin\n\nLink zum Tip: https://
 www.gratis-in-berlin.de/gratis-in-berlin/26-schatztruhe/2032315-sternschnu
 ppen-schauen\nZu den Gratis-in-Berlin Angeboten: http://www.gratis-in-berl
 in.de\n
DTSTART;VALUE=DATE:20260422
DTEND;VALUE=DATE:20260423
SUMMARY:Sternschnuppen schauen 
END:VEVENT
END:VCALENDAR
