BEGIN:VCALENDAR
VERSION:2.0
PRODID:-//Gratis-in-Berlin//NONSGML kigkonsult.se iCalcreator 2.14//
METHOD:PUBLISH
X-WR-CALNAME:Gratis-in-Berlin Tip Kalender
X-WR-CALDESC:Erhalte Gratis-in-Berlin Tips in deinem Kalender
BEGIN:VEVENT
UID:20260423T100511UTC-2066HGzUDn@Gratis-in-Berlin
DTSTAMP:20260423T100511Z
DESCRIPTION:Zum Pfingst Wochenende verwandelt sich die Trabrennbahn Karlsho
 rstin ein riesiges Trödelcamp\, auf dem viele Händler von auswärts für 3 Tage Ihre Zel
 teaufschlagen\, um Antiquitäten\, Kunst\, Design\, Möbel und vieles Altes &amp\
 ; Schräges mehr anzubieten. Das offene\, weiteräumige Gelände in unmittelbarer N
 ähe zum S-Bahnhof Karlshorst bietet die perfekte Kulisse für das Großereignis in S
 achen Antiquitäten und Sammeln\, zu dem sich Menschen aus ganz Deutschland\,
  Zugereiste und Touristen treffen\, feilschen\, gustieren\, diskutieren\, 
 fachsimpeln und gemeinsam feiern.Ob alte Möbel\, Antiquitäten\, Design\, Kunst\
 , Zeitzeugnissen aller Art\, Schmuck\, peppiges Second Hand\, Trash\, Scha
 llplatten oder Bücher\, der Rundgang mit den liebevoll präsentierten oder manchma
 l auch nur beiläufig hingeworfenen alten Dingen beträgt mehrere Kilometer\, so
 dass es schier unmöglich ist hier partout nichts finden zu wollen!Mit seinem 
 neuen\, 3\,7 km2 großen Festgelände führt der Riesenflohmarkt mit mehr als 300 Ständ
 en und 20.000 Besuchern nicht nur in die gemeinsame Vergangenheit\, sonder
 n auch an einen historischen\, Berliner Ort der Wiedervereinigung. Da wo f
 rüher die Militärkomplexe und Kasernen der russischen Streitkräfte standen\, wird z
 um Pfingstwochenende zum ausgelassenen\, gemeinsamen Freilufttrödeln geladen.
 S 3 Tram M17\, 21\, 27 Bus 296\, 396Wer mit der S-Bahn kommt\, steigt am S
 -Bhf. Karlshorst aus und steht nach 200 Metern vor dem Eingangsportal der 
 Trabrennbahn\, wo die ersten Stände die Besucher empfangen.Parkplätze sind ent
 lang der Treskowallee gratis vorhanden! Wer´s bequem möchte\, kann am Rennbahn
 gelände die kostenpflichtige Parkzone zu ? 5\,-/Tag nutzen.Wir haben endlich
  soviel Platz\, dass Ihr auch noch mitmachen könnt.Info und Anmeldung 030 290
 02010 oderhttps://oldthing.de/riesenflohmarkt\n\nViel Spass wünscht Gratis-in-B
 erlin\n\nLink zum Tip: \nZu den Gratis-in-Berlin Angeboten: http://www.gra
 tis-in-berlin.de\n
DTSTART;VALUE=DATE:20260523
DTEND;VALUE=DATE:20260526
SUMMARY:Riesenflohmarkt auf der Trabrennbahn Karlshorst 3 Tage zu Pfingsten
  
END:VEVENT
END:VCALENDAR
