BEGIN:VCALENDAR
VERSION:2.0
PRODID:-//Gratis-in-Berlin//NONSGML kigkonsult.se iCalcreator 2.14//
METHOD:PUBLISH
X-WR-CALNAME:Gratis-in-Berlin Tip Kalender
X-WR-CALDESC:Erhalte Gratis-in-Berlin Tips in deinem Kalender
BEGIN:VEVENT
UID:20260422T164058UTC-5110FfCTkx@Gratis-in-Berlin
DTSTAMP:20260422T164058Z
DESCRIPTION:Stilikonen und seltene Originale auf der 13.design.Börse Berlin. P
 rodukt &amp\; Industriedesign aus den Bereichen Möbel\, Lampen\, Interieur\, 
 Keramik\, Glas\, Technik.Neuer Termin 2.-4. Oktober 2026 in der Tribünenhalle A
 lljährlich tummeln sich 3 Tage lang mehr als 4000 Besucher auf Berlins einzi
 ger Messe für Vintageinterieur. Präsentiert wird Möbel- und Produktdesign der letzte
 n 120 Jahre. Auf 1000 qm werden Designklassiker und Stilikonen vom Art Dec
 o und Bauhaus bis hin zum Midcentury Design im seltenen Original gezeigt u
 nd von internationalen Händlern\, Galeristen und Privatsammlern zum Kauf ang
 eboten.Vintage Furniture der 50er bis 70er Jahre\, Industrial Design und z
 eitgenössische Entwürfe junger Designer ergänzen das Angebot.Ausgewählte Stücke in allen Pr
 eisklassen liebevoll präsentiert und zum Gleich mit nach Hause nehmen. Freit
 ag\, 2.10. 2025 14-21 Uhr 10 Euro = 3 Tagesticket Samstag 3.10. 2025 10-17
  Uhr 5 Euro Sonntag\, 4.10. 2025 10-17 Uhr 5 EuroTreskowallee 159\, 10318 
 BerlinACHTUNG Das Parkticket = 1 GRATIS Eintrittskarte für 1 Person www.design-
 boerse-berlin.de\n\nViel Spass wünscht Gratis-in-Berlin\n\nLink zum Tip: \nZu d
 en Gratis-in-Berlin Angeboten: http://www.gratis-in-berlin.de\n
DTSTART;VALUE=DATE:20261002
DTEND;VALUE=DATE:20261005
SUMMARY:Riesenflohmarkt mit Designbörse Berlin für Möbel & Produktdesign
END:VEVENT
END:VCALENDAR
