BEGIN:VCALENDAR
VERSION:2.0
PRODID:-//Gratis-in-Berlin//NONSGML kigkonsult.se iCalcreator 2.14//
METHOD:PUBLISH
X-WR-CALNAME:Gratis-in-Berlin Tip Kalender
X-WR-CALDESC:Erhalte Gratis-in-Berlin Tips in deinem Kalender
BEGIN:VEVENT
UID:20260420T080619UTC-8493gM6zFC@Gratis-in-Berlin
DTSTAMP:20260420T080619Z
DESCRIPTION:Bücher\, Zeitschriften und Broschüren für Erwachsene und Kinder.Auch in Englis
 ch\, Französisch und Polnisch. Kostenfrei zum Mitnehmen\, Tauschen und Versch
 enken. Der Koffer steht zu unseren Öffnungszeiten vor der Tür\, bei Regen im Caf
 é. montags?donnerstags 9:00?18:00 Uhrfreitags 9:00?13:00 Uhr\n\nViel Spass w
 ünscht Gratis-in-Berlin\n\nLink zum Tip: \nZu den Gratis-in-Berlin Angeboten: h
 ttp://www.gratis-in-berlin.de\n
DTSTART;VALUE=DATE:20231127
DTEND;VALUE=DATE:20231128
SUMMARY:Bücher\, Zeitschriften zum tauschen\, lesen und verschenken!
END:VEVENT
END:VCALENDAR
