BEGIN:VCALENDAR
VERSION:2.0
PRODID:-//Gratis-in-Berlin//NONSGML kigkonsult.se iCalcreator 2.14//
METHOD:PUBLISH
X-WR-CALNAME:Gratis-in-Berlin Tip Kalender
X-WR-CALDESC:Erhalte Gratis-in-Berlin Tips in deinem Kalender
BEGIN:VEVENT
UID:20260422T120132UTC-6048OC8cDh@Gratis-in-Berlin
DTSTAMP:20260422T120132Z
DESCRIPTION:Anlässlich der jährlichen internationalen ?Make SMTHNG Week? möchten w
 ir gemeinsam mit euch dem Konsumwahn des Black Friday den Kampf ansagen!De
 nn bei der großen Greenpeace Make SMTHNG Kleidertauschparty am 19.11.23 von
  13:00-17:00 Uhr im Jugenzentrum Schloss19 kann eure ausgemusterte Kleidun
 g ein neues Zuhause finden. Gleichzeitig könnt ihr euren Kleiderschrank wiede
 r befüllen ? nachhaltiger geht es kaum! Einfach bis zu 10 saubere\, gut erhalte
 ne Teile mitbringen und lostauschen.Darüber hinaus könnt ihr in unserer Upcycling-
 Werkstatt Kleidungsstücken ein kreatives Upgrade geben\, an unserem Nähtisch und 
 Stopfworkshop teilnehmen. Lasst euch überraschen\, welche Organisationen noch d
 abei sind!Kommt vorbei ? wir freuen uns auf euch!Adresse: Schlossstraße 19\
 , 14059 Berlin\n\nViel Spass wünscht Gratis-in-Berlin\n\nLink zum Tip: https://
 www.gratis-in-berlin.de/schatztruhe/item/2064169-greenpeace-makesmthng-kle
 idertauschparty\nZu den Gratis-in-Berlin Angeboten: http://www.gratis-in-b
 erlin.de\n
DTSTART;VALUE=DATE:20231119
DTEND;VALUE=DATE:20231120
SUMMARY:Greenpeace #MakeSmthing Kleidertauschparty 
END:VEVENT
END:VCALENDAR
