BEGIN:VCALENDAR
VERSION:2.0
PRODID:-//Gratis-in-Berlin//NONSGML kigkonsult.se iCalcreator 2.14//
METHOD:PUBLISH
X-WR-CALNAME:Gratis-in-Berlin Tip Kalender
X-WR-CALDESC:Erhalte Gratis-in-Berlin Tips in deinem Kalender
BEGIN:VEVENT
UID:20260419T215709UTC-0836RN35tN@Gratis-in-Berlin
DTSTAMP:20260419T215709Z
DESCRIPTION:Im März geht es wieder los: The one and only Nowkoelln Flowmarkt 
 am idyllischen Maybachufer bringt Flohmarkt\, Kunsthandwerk &amp\; feinste
 s Street food aufs Parkett!In den über 150 voll bestückten Marktbuden gibt es viel z
 u entdecken: Klamotten\, Vinyl &amp\; Kurioses zu fairen\, häufig verhandelb
 aren Preisen.Neben den Klassikern Würstchen &amp\; Co gibt es viele vegane Opti
 onen für den Mittagssnack: Delicous again\, Peter!Der Flowmarkt geht von 10:00 
 und 16 Uhr 30.infos zur Anmeldung: www.nowkoelln.de- Get in the Flow !!!--
 ------------------------------------------The one and only Nowkoelln Flowm
 arkt on the idyllic Maybachufer brings flea markets\, handicrafts and the 
 finest street food onto the floor!There is a lot to discover in the more t
 han 150 fully stocked market stalls: clothes\, vinyl &amp\; curiosities at
  fair\, often negotiable prices.In addition to the classic Bratwurst there
  are many vegan options for a yummy lunch snacks: Delicious again\, Peter!
 The flea market is open between 10:00 a.m. and 4:30 p.m.For more informati
 on\, please visit www.nowkoelln.de - Get in the Flow&nbsp\;\n\nViel Spass 
 wünscht Gratis-in-Berlin\n\nLink zum Tip: https://www.gratis-in-berlin.de/kalen
 der/item/2065474-nowkoelln-flowmarkt-am-maybachufer\nZu den Gratis-in-Berl
 in Angeboten: http://www.gratis-in-berlin.de\n
DTSTART;VALUE=DATE:20260419
DTEND;VALUE=DATE:20260420
SUMMARY:Nowkoelln Flowmarkt am Maybachufer
END:VEVENT
END:VCALENDAR
