BEGIN:VCALENDAR
VERSION:2.0
PRODID:-//Gratis-in-Berlin//NONSGML kigkonsult.se iCalcreator 2.14//
METHOD:PUBLISH
X-WR-CALNAME:Gratis-in-Berlin Tip Kalender
X-WR-CALDESC:Erhalte Gratis-in-Berlin Tips in deinem Kalender
BEGIN:VEVENT
UID:20260421T133945UTC-9928o0aiXN@Gratis-in-Berlin
DTSTAMP:20260421T133945Z
DESCRIPTION:Mit über 100 Marktbuden voll mit feinstem privaten Trödel\, sowie ausge
 suchten Kunsthandwerk. Beim Flowmarkt in Schoeneboerg gibt es sehr viel zu
  entdecken\, wirklich nette Menschen zu treffen\, zu stöbern und leckeres Str
 eet food fehlt auch nicht. Der perfekte Ort für den 'Easy Sundaie'Info &amp\; A
 nmeldung ausschliesslich via:www.schoeneboerg.de10 bis 17 Uhr.Alle 14 Tage
 \,&nbsp\;&nbsp\;\n\nViel Spass wünscht Gratis-in-Berlin\n\nLink zum Tip: https:
 //www.gratis-in-berlin.de/aktueller-monat/item/2065475-schoeneboerg-flowma
 rkt\nZu den Gratis-in-Berlin Angeboten: http://www.gratis-in-berlin.de\n
DTSTART;VALUE=DATE:20260426
DTEND;VALUE=DATE:20260427
SUMMARY:Schoeneboerg Flowmarkt
END:VEVENT
END:VCALENDAR
