BEGIN:VCALENDAR
VERSION:2.0
PRODID:-//Gratis-in-Berlin//NONSGML kigkonsult.se iCalcreator 2.14//
METHOD:PUBLISH
X-WR-CALNAME:Gratis-in-Berlin Tip Kalender
X-WR-CALDESC:Erhalte Gratis-in-Berlin Tips in deinem Kalender
BEGIN:VEVENT
UID:20260419T144113UTC-8914oZ3xbB@Gratis-in-Berlin
DTSTAMP:20260419T144113Z
DESCRIPTION:Die Berliner S-Bahn feierte im Jahr 2024 ihr 100-jähriges Jubiläum.
  Am 8. August 1924 wurde der elektrische Betrieb auf der Berliner Stadt-\,
  Ring- und Vorortbahn aufgenommen\, was den Grundstein für das moderne S-Bahn-N
 etz legte. Seitdem hat sich die S-Bahn zu einem der wichtigsten Verkehrsmi
 ttel der Stadt entwickelt\, das täglich Millionen von Menschen befördert.Update
  Redatkion\, Zitat-Textquelle Pressemeldung:'Ausstellungen 8. ? 11.8.24S O
 stbahnhof ? S-Bahn-MuseumKoppenstraße\, Minerva-Passage 3\, 10243 BerlinSon
 derausstellung zu 100 Jahre Berliner S-BahnAnlässlich des Jubiläums zeigt das 
 S-Bahn Museum in seinem derzeitigenProjektraum die Sonderausstellung: ?192
 4?2024. Die bewegte Geschichte derBerliner S-Bahn?S Friedrichstraße ? Tränenp
 alastReichstagsufer 17\, 10117 BerlinS bewegt Dich! Eine multimediale Zeit
 reise auf der Glasfassade des TränenpalastesAn allen Abenden des Festivals w
 ird die Glasfassade des Tränenpalastes jeweils abca. 21:00 Uhr bis ca. 1 Uhr
  mit einer Projektion bespielt\, die ein JahrhundertMobilitäts- und Stadtges
 chichte miteinander verbindet. Die Inszenierung zeigt dieS-Bahn Berlin in 
 einem neuen Licht und lädt die Zuschauer:innen zu einer visuellenZeitreise a
 n Sommerabenden ein.S Anhalter Bahnhof ? Deutsches Technikmuseum BerlinTre
 bbiner Str. 9\, 10963 Berlin?Besser\, schneller\, elektrisch! Die Anfänge de
 r Berliner S-Bahn.? Eine kleineSonderschau des Deutschen Technikmuseums zu
  100 Jahre Berliner S-Bahn.Zum 100-jährigen Jubiläum der Berliner S-Bahn zeigt
  das Deutsche Technikmuseumdie Ausstellung ?Besser\, schneller\, elektrisc
 h?. Die Sonderschau im Lokschuppen 2führt in die Frühzeit des bahnbrechenden Verkehr
 smittels zwischen 1924 und 1930.In dieser kurzen Zeit wurden alle Komponen
 ten entwickelt\, die das S-Bahn-System bisheute prägen. Im Mittelpunkt der A
 usstellung steht das Fragment des einzigenerhaltenen Original-Triebwagens 
 der Bauart Bernau von 1924. Ein passenderBeiwagen wird derzeit durch das D
 eutsche Technikmuseum mit Mitteln derSenatskanzlei Berlin restauriert.buer
 o doering ? Fachhandel für Ereignisse GmbH | Rosenthaler Straße 40/41 | 10178 Be
 rlin | www.buero-doering.de | +49 (0) 30 400 54 178S Bernau - KantorhausTu
 chmacherstraße 13\, 16321 Bernau bei Berlin100 Jahre in Bewegung ? Bernau u
 nd die S-BahnHeute pendeln ca. 12.000 Menschen am Bernauer Bahnhof. Das Mu
 seum Bernau istim Kantorhaus anlässlich des 100. Geburtstags der S-Bahn der 
 besonderen BernauerS-Bahngeschichte auf der Spur. Am 8. August 1924 war es
  soweit\, der ersteelektrifizierte Zug fuhr vom Stettiner Vorortbahnhof (h
 eute Nordbahnhof) nachBernau und die große Elektrifizierung nahm ihren Anfa
 ng. Doch welchen Einflusshatte die S-Bahn auf die Stadtentwicklung Bernaus
 ? Die Ausstellung schaut insgestern\, heute und morgen um diese Frage zu b
 eantworten.Live-Acts 8.8. ? 11. 8. 2024Während des Festivals wird es an vers
 chiedenen Bahnhöfen Live Musik und geben.z.B mit: Gotopo/ Yvy Maraey/ junk-E-
 cat. Szenische Lesung 9.8.-11.8.2024S Friedrichstraße ? Haus der Geschichte
  Deutschlands ? TränenpalastReichstagufer 17\, 10117 BerlinDie Schauspieleri
 n Sabine Weißhaar erzählt bewegende und abenteuerlicheZeitzeugenberichte von 
 Lokführern\, Flüchtlingen\, Zollbeamten und Reisenden amGrenzübergang Friedrichstraße (Träne
 npalast). 9. August: 14:00 Uhr und 15:00 Uhr10. August: 11:00\, 12:00\, 14
 :00 Uhr und 15:00 Uhr 11. August: 11:00\, 12:00\, 14:00 Uhrund 15:00 Uhr D
 auer: jeweils ca. 15-20 MinutenFilmvorführung 8.8.-11.08.2024S Friedrichstraße ?
  Haus der Geschichte Deutschlands ? TränenpalastReichstagufer 17\, 10117 Ber
 linTäglich um 16 Uhr bis 17.30 Uhr wird die neue rbb Dokumentation (Erstauss
 trahlungam 07.08.2024) zum 100-jährigen S-Bahn Jubiläum im Tränenpalast gezeigt.
 S Wuhlheide - ParkeisenbahnAm Sonntag\, 11. werden an Haltestellen der Par
 keisenbahn verschiedene Live-Actsund Mitmach-Aktionen für Familien geboten.Eint
 ritt frei (Für einzelne Teilveranstaltungen im Programm können Eintrittskosten und
  eine Ticketreservierung anfallen!)'Im Laufe der Jahre hat die S-Bahn viel
 e Veränderungen und Herausforderungen erlebt\, darunter technische Entwicklu
 ngen\, politische Veränderungen und Umstrukturierungen. Trotz dieser Herausf
 orderungen blieb sie eine zuverlässige und effiziente Transportlösung für die Mensch
 en in Berlin.Zu ihrem 100-jährigen Jubiläum wird die Berliner S-Bahn wahrschei
 nlich besondere Veranstaltungen und Aktionen organisieren\, um ihre Geschi
 chte und Bedeutung für die Stadt zu feiern. Es ist eine Gelegenheit\, auf die F
 ortschritte und Errungenschaften der S-Bahn zurückzublicken und ihre Rolle als 
 unverzichtbares Verkehrsmittel für die Berliner Bevölkerung anzuerkennen.sbahn.ber
 lin\n\nViel Spass wünscht Gratis-in-Berlin\n\nLink zum Tip: \nZu den Gratis-in-
 Berlin Angeboten: http://www.gratis-in-berlin.de\n
DTSTART;VALUE=DATE:20240808
DTEND;VALUE=DATE:20240812
SUMMARY:100 Jahre - Berliner S-Bahn feiert 100-jähriges Bestehen mit viertägige
 m Festival
END:VEVENT
END:VCALENDAR
