BEGIN:VCALENDAR
VERSION:2.0
PRODID:-//Gratis-in-Berlin//NONSGML kigkonsult.se iCalcreator 2.14//
METHOD:PUBLISH
X-WR-CALNAME:Gratis-in-Berlin Tip Kalender
X-WR-CALDESC:Erhalte Gratis-in-Berlin Tips in deinem Kalender
BEGIN:VEVENT
UID:20260425T114303UTC-5572gCeR5D@Gratis-in-Berlin
DTSTAMP:20260425T114303Z
DESCRIPTION:Sonntag\, den 21.Juni 2026\, 12.00 Uhr\, Einlass: 11.45 UhrWelt
 weit gleichzeitig durchgeführte Meditation für den Frieden. Wir wollen gemeinsam mit
  Menschen an vielen Orten der Welt die geistige Kraft für Frieden stärken und Men
 schen für Frieden ermutigen.\n\nViel Spass wünscht Gratis-in-Berlin\n\nLink zum Tip:
  https://www.gratis-in-berlin.de/dauerbrenner/26-schatztruhe/2071014-fried
 ensmeditation\nZu den Gratis-in-Berlin Angeboten: http://www.gratis-in-ber
 lin.de\n
DTSTART;VALUE=DATE:20260621
DTEND;VALUE=DATE:20260622
SUMMARY:Weltweite Meditation für den Frieden in der Tradition der Rosenkreuzer -
  AMORC
END:VEVENT
END:VCALENDAR
