BEGIN:VCALENDAR
VERSION:2.0
PRODID:-//Gratis-in-Berlin//NONSGML kigkonsult.se iCalcreator 2.14//
METHOD:PUBLISH
X-WR-CALNAME:Gratis-in-Berlin Tip Kalender
X-WR-CALDESC:Erhalte Gratis-in-Berlin Tips in deinem Kalender
BEGIN:VEVENT
UID:20260422T130321UTC-0150IJuKUv@Gratis-in-Berlin
DTSTAMP:20260422T130321Z
DESCRIPTION:Sonntag\, den 22.Juni 2025\, 12.00 Uhr\, Einlass: 11.45 UhrWelt
 weit gleichzeitig durchgeführte Meditation für den Frieden. Wir wollen gemeinsam mit
  Menschen an vielen Orten der Welt die geistige Kraft für Frieden stärken und Men
 schen für Frieden ermutigen.\n\nViel Spass wünscht Gratis-in-Berlin\n\nLink zum Tip:
  https://www.gratis-in-berlin.de/kalender/item/2071014-friedensmeditation
 \nZu den Gratis-in-Berlin Angeboten: http://www.gratis-in-berlin.de\n
DTSTART;VALUE=DATE:20250622
DTEND;VALUE=DATE:20250623
SUMMARY:Weltweite Meditation für den Frieden in der Tradition der Rosenkreuzer -
  AMORC
END:VEVENT
END:VCALENDAR
