BEGIN:VCALENDAR
VERSION:2.0
PRODID:-//Gratis-in-Berlin//NONSGML kigkonsult.se iCalcreator 2.14//
METHOD:PUBLISH
X-WR-CALNAME:Gratis-in-Berlin Tip Kalender
X-WR-CALDESC:Erhalte Gratis-in-Berlin Tips in deinem Kalender
BEGIN:VEVENT
UID:20260424T164408UTC-2730RziZPu@Gratis-in-Berlin
DTSTAMP:20260424T164408Z
DESCRIPTION:Verdi lässt schon wieder streiken zu Lasten von uns Pendlern und 
 der Wirtschaft und auch der Verkehrswende. Auf bevorstehende Schlichtung w
 urde verzichtet. In meinem Bekanntenkreis wenig Verständnis dafür.Wenige\, aber d
 och alternative Möglichkeiten:Fahrradroutenplaner einsetzen\,&nbsp\;S-Bahn un
 d Regionalbahnen fahren\, können teilweise alternativ eingesetzt werden.Laut 
 BVG&nbsp\; während des Streiks keine Trams und U-Bahnen. Ausnahmen gelten für bes
 timmte Buslinien und Verbindungen\, die von externen Unternehmen im Auftra
 g der BVG betrieben werden.&nbsp\;Vorher auf jeden Fall checken\,&nbsp\;ob
  in den BVG- oder Öffi-Apps oder auf der Webseite der BVG die Fahrt mit ein
 er Echtzeitinformation aktuell anzeigt wird.Buslinien und Angebote\, die i
 m Auftrag der BVG von anderen Unternehmen gefahren werden\, sind vom Strei
 k nicht betroffen. Das gilt für folgende Linien: 106\, 112\, 114\, 118\, 124\, 
 133\, 175\, 184\, 204\, 234\, 275\, 316\, 318\, 326\, 161\, 363\, N12\, N2
 3\, N35\, N39\, N53\, N61\, N69\, N84\, N91\, N95\, N97.Auch die Fähren der 
 BVG sind vom Streik nicht betroffen. Aktuell sind die Fährlinien F11 und F12
  im Betrieb.\n\nViel Spass wünscht Gratis-in-Berlin\n\nLink zum Tip: \nZu den G
 ratis-in-Berlin Angeboten: http://www.gratis-in-berlin.de\n
DTSTART;VALUE=DATE:20260228
DTEND;VALUE=DATE:20260302
SUMMARY:BVG Streik - was tun\, welche Busse fahren?
END:VEVENT
END:VCALENDAR
