BEGIN:VCALENDAR
VERSION:2.0
PRODID:-//Gratis-in-Berlin//NONSGML kigkonsult.se iCalcreator 2.14//
METHOD:PUBLISH
X-WR-CALNAME:Gratis-in-Berlin Tip Kalender
X-WR-CALDESC:Erhalte Gratis-in-Berlin Tips in deinem Kalender
BEGIN:VEVENT
UID:20260425T114219UTC-0188wiLZ80@Gratis-in-Berlin
DTSTAMP:20260425T114219Z
DESCRIPTION:AMORC-Die Rosenkreuzer ist eine philosophisch-mystische Vereini
 gung\, die die höheren Gesetze der Natur und des Kosmos erforscht. Die AMORC-
 Lehren werden von vielen Menschen als Hilfe auf dem Weg zu spiritueller En
 tfaltung und auch als praktische Lebenshilfe betrachtet.Bei der Friedensme
 ditation tauschen wir uns über das Thema 'Frieden' aus und vertiefen uns medita
 tiv.Gäste sind herzlich eingeladen!Seien Sie gern 15 Minuten vorher da.Eintr
 itt frei.\n\nViel Spass wünscht Gratis-in-Berlin\n\nLink zum Tip: \nZu den Grat
 is-in-Berlin Angeboten: http://www.gratis-in-berlin.de\n
DTSTART;VALUE=DATE:20260509
DTEND;VALUE=DATE:20260510
SUMMARY:Friedensmeditation in der Tradition der Rosenkreuzer
END:VEVENT
END:VCALENDAR
