BEGIN:VCALENDAR
VERSION:2.0
PRODID:-//Gratis-in-Berlin//NONSGML kigkonsult.se iCalcreator 2.14//
METHOD:PUBLISH
X-WR-CALNAME:Gratis-in-Berlin Tip Kalender
X-WR-CALDESC:Erhalte Gratis-in-Berlin Tips in deinem Kalender
BEGIN:VEVENT
UID:20260421T134543UTC-2132uvtuux@Gratis-in-Berlin
DTSTAMP:20260421T134543Z
DESCRIPTION:AMORC - Die Rosenkreuzer ist eine philosophisch-mystische Verei
 nigung\, die die höheren Gesetze der Natur und des Kosmos erforscht. Die AMOR
 C-Lehren werden von vielen Menschen als Hilfe auf ihrem Weg zu spirituelle
 r Entfaltung und auch als praktische Lebenshilfe betrachtet.An diesem Aben
 d soll es nicht nur um Theorie\, sondern vor allem um praktische Anregunge
 n gehen\, um unsere geistigen Fähigkeiten zu stärken und uns über diese Erfahrungen
  auszutauschen.&nbsp\;Wir freuen uns über Gäste.Eintritt freiÖffnung: 15 Minuten v
 or Beginn\n\nViel Spass wünscht Gratis-in-Berlin\n\nLink zum Tip: \nZu den Grat
 is-in-Berlin Angeboten: http://www.gratis-in-berlin.de\n
DTSTART;VALUE=DATE:20260425
DTEND;VALUE=DATE:20260426
SUMMARY:Rosenkreuzerische Übungen gemeinsam erleben
END:VEVENT
END:VCALENDAR
