BEGIN:VCALENDAR
VERSION:2.0
PRODID:-//Gratis-in-Berlin//NONSGML kigkonsult.se iCalcreator 2.14//
METHOD:PUBLISH
X-WR-CALNAME:Gratis-in-Berlin Tip Kalender
X-WR-CALDESC:Erhalte Gratis-in-Berlin Tips in deinem Kalender
BEGIN:VEVENT
UID:20260422T130127UTC-4058luei8b@Gratis-in-Berlin
DTSTAMP:20260422T130127Z
DESCRIPTION:Jeden Mittwoch lädt die Initiative ?10119_Lebenswerter Weinbergsp
 ark? von 16.30 bis 17.30 Uhr zum After-Work-Cleanup ein. Wer das ?Meet &am
 p\; Clean? unterstützen möchte\, findet den Treffpunkt bei den Tischtennisplatten 
 auf dem Blauen Spielplatz. Wenn es allerdings regnet\, entfällt die Aktion.
 \n\nViel Spass wünscht Gratis-in-Berlin\n\nLink zum Tip: https://www.gratis-in-
 berlin.de/kalender/item/2073776-after-work-cleanup-im-weinbergspark\nZu de
 n Gratis-in-Berlin Angeboten: http://www.gratis-in-berlin.de\n
DTSTART;VALUE=DATE:20250611
DTEND;VALUE=DATE:20250904
SUMMARY:After-Work-Cleanup im Weinbergspark
END:VEVENT
END:VCALENDAR
