BEGIN:VCALENDAR
VERSION:2.0
PRODID:-//Gratis-in-Berlin//NONSGML kigkonsult.se iCalcreator 2.14//
METHOD:PUBLISH
X-WR-CALNAME:Gratis-in-Berlin Tip Kalender
X-WR-CALDESC:Erhalte Gratis-in-Berlin Tips in deinem Kalender
BEGIN:VEVENT
UID:20260419T122214UTC-2593PtAALz@Gratis-in-Berlin
DTSTAMP:20260419T122214Z
DESCRIPTION:Seit 10 Jahren zeigt der Film die weltweiten Aktivitäten des brun
 o Gröning Freundeskreises\, so auch am 27.09.2025 in 14770 im&nbsp\;Technolog
 ie- und GründerzentrumFriedrich-Franz-Straße 19 / Haus A&nbsp\; Veranstalter ist
  der Kreis für natürliche Lebenshilfe e.V.Beginn 11:00 Uhr - 17:00 Uhr mit 2 Pausen 
 und Imbissmöglichkeit Eintritt ist frei\, Spenden sind willkommen.Der Film ze
 igt auf beindruckende Weise die Geschehnisse nach 1959\, dem Jahr\, wo vie
 le glaubten\, das nach dem Tode Bruno Grönings\, das Phänomen der außergewöhnlichen
  Heilungen beendet sei. Im Gegenteil erlangten Menschen aller Kontinente\,
  dank seiner Lehre\, Hilfen und Heilungen unabhängig von religiösen Bindungen\,
  Hautfarbe und Kulturen. Spannende Interviews\, fachliche Stellungnahmen v
 on Ärzten und persönlichen Berichten von Bruno Gröning Freunden aus vielen Ländern 
 zeichnen ein breit gefächertes Bild.\n\nViel Spass wünscht Gratis-in-Berlin\n\nLi
 nk zum Tip: \nZu den Gratis-in-Berlin Angeboten: http://www.gratis-in-berl
 in.de\n
DTSTART;VALUE=DATE:20250927
DTEND;VALUE=DATE:20250928
SUMMARY:Brandenburg Dokumentarfilm: Das Phänomen der Heilung
END:VEVENT
END:VCALENDAR
