BEGIN:VCALENDAR
VERSION:2.0
PRODID:-//Gratis-in-Berlin//NONSGML kigkonsult.se iCalcreator 2.14//
METHOD:PUBLISH
X-WR-CALNAME:Gratis-in-Berlin Tip Kalender
X-WR-CALDESC:Erhalte Gratis-in-Berlin Tips in deinem Kalender
BEGIN:VEVENT
UID:20260420T143159UTC-6165MuUKXG@Gratis-in-Berlin
DTSTAMP:20260420T143159Z
DESCRIPTION:In diesem 2-Stündigen Workshop für Anfänger lernt ihr die Zeichengrundlagen
  der für Manga typischen Gesichter und die effektvolle Kolorierung mit Licht un
 d Schatten.Für alle ab 10 Jahren\n\nErmöglicht durch den Bibliotheksstärkungsfonds\n
 \n\n\nViel Spass wünscht Gratis-in-Berlin\n\nLink zum Tip: \nZu den Gratis-in-B
 erlin Angeboten: http://www.gratis-in-berlin.de\n
DTSTART;VALUE=DATE:20251015
DTEND;VALUE=DATE:20251016
SUMMARY:Manga zeichnen - Workshop für alle ab 10 Jahren
END:VEVENT
END:VCALENDAR
