BEGIN:VCALENDAR
VERSION:2.0
PRODID:-//Gratis-in-Berlin//NONSGML kigkonsult.se iCalcreator 2.14//
METHOD:PUBLISH
X-WR-CALNAME:Gratis-in-Berlin Tip Kalender
X-WR-CALDESC:Erhalte Gratis-in-Berlin Tips in deinem Kalender
BEGIN:VEVENT
UID:20260419T215153UTC-3147vMx58l@Gratis-in-Berlin
DTSTAMP:20260419T215153Z
DESCRIPTION:1. Mal im Monat findet im Sommergarten des Filmtheaters am Frie
 drichshain ein Flohmarkt statt. Leute aus dem Kiez und darüber hinaus\, verkauf
 en ihre Schätze.&nbsp\;Kommt vorbei zum Stöbern! Gegen eine Spende für gemeinnützige Orga
 nisation gibt es Kaffee und Kuchen. Außerdem leckeres Popcorn und Glühwein zum A
 ufwärmen.jeweils ab 11 Uhr geht's los.Anmeldung unter: FAFmarkt@yorck.de\n\n
 Viel Spass wünscht Gratis-in-Berlin\n\nLink zum Tip: https://www.gratis-in-berl
 in.de/kalender/item/2076651-flohmarkt-im-faf\nZu den Gratis-in-Berlin Ange
 boten: http://www.gratis-in-berlin.de\n
DTSTART;VALUE=DATE:20260419
DTEND;VALUE=DATE:20260420
SUMMARY:Flohmarkt im FAF 
END:VEVENT
END:VCALENDAR
