BEGIN:VCALENDAR
VERSION:2.0
PRODID:-//Gratis-in-Berlin//NONSGML kigkonsult.se iCalcreator 2.14//
METHOD:PUBLISH
X-WR-CALNAME:Gratis-in-Berlin Tip Kalender
X-WR-CALDESC:Erhalte Gratis-in-Berlin Tips in deinem Kalender
BEGIN:VEVENT
UID:20260419T143749UTC-0885G1LogN@Gratis-in-Berlin
DTSTAMP:20260419T143749Z
DESCRIPTION:Immer noch Winter. Unsere Themen diesmal: Eisleuchten und Fasch
 ingsglitzern\, Wolle und Lurex... und bald kommt der Frühling...Und so geht?s: 
 ca. 5 gut erhaltene\, saubere saisonale Kleidungsstücke oder funktionierende Ac
 cessoires (z.B. Taschen\, Tücher\, Gürtel\, Hüte...) mitbringen und schöne Sachen mitnehmen\
 , die passen und gefallen. Alle sind willkommen\, auch wer selbst nichts z
 ur Verfügung stellen kann.\n\nViel Spass wünscht Gratis-in-Berlin\n\nLink zum Tip: h
 ttps://www.gratis-in-berlin.de/schatztruhe/item/2076906-kleidertauschparty
 \nZu den Gratis-in-Berlin Angeboten: http://www.gratis-in-berlin.de\n
DTSTART;VALUE=DATE:20260213
DTEND;VALUE=DATE:20260214
SUMMARY:Kleidertauschparty
END:VEVENT
END:VCALENDAR
