BEGIN:VCALENDAR
VERSION:2.0
PRODID:-//Gratis-in-Berlin//NONSGML kigkonsult.se iCalcreator 2.14//
METHOD:PUBLISH
X-WR-CALNAME:Gratis-in-Berlin Tip Kalender
X-WR-CALDESC:Erhalte Gratis-in-Berlin Tips in deinem Kalender
BEGIN:VEVENT
UID:20260423T083437UTC-5203Pl2vf9@Gratis-in-Berlin
DTSTAMP:20260423T083437Z
DESCRIPTION:Auf dem Leopoldplatz findet wieder der Weddingmarkt statt. Ange
 boten werden unter anderem Mode\, Illustrationen\, Keramik\, Malerei\, Sch
 muck und Fotografie. Zugelassen sind ausschließlich handgefertigte Produkte
 . Marktzeit ist von 11 bis 18 Uhr.\n\nViel Spass wünscht Gratis-in-Berlin\n\nLi
 nk zum Tip: https://www.gratis-in-berlin.de/naechste-monat/item/2077062-we
 ddingmarkt-open-air-designmarkt\nZu den Gratis-in-Berlin Angeboten: http:/
 /www.gratis-in-berlin.de\n
DTSTART;VALUE=DATE:20260510
DTEND;VALUE=DATE:20260511
SUMMARY:Weddingmarkt - Open-Air-Designmarkt
END:VEVENT
END:VCALENDAR
