BEGIN:VCALENDAR
VERSION:2.0
PRODID:-//Gratis-in-Berlin//NONSGML kigkonsult.se iCalcreator 2.14//
METHOD:PUBLISH
X-WR-CALNAME:Gratis-in-Berlin Tip Kalender
X-WR-CALDESC:Erhalte Gratis-in-Berlin Tips in deinem Kalender
BEGIN:VEVENT
UID:20260421T120207UTC-7609Dskmic@Gratis-in-Berlin
DTSTAMP:20260421T120207Z
DESCRIPTION:Eintritt frei! KFZ Parkplatz am Gelände zu ? 5\,-&nbsp\;An Vielfa
 lt und Stimmung nicht zu schlagen lädt der Antikevent zum gemeinsamen Stöbern e
 in. Raritätenfaktor sehr hoch! Gehobene Trödelkultur par excellence. Ob Seltene
 s\, Wertvolles oder Originelles\, der polyglotte Markt gilt als einer der 
 bestsortiertesten weit und breit.Der Eintritt für Besucher ist frei ! Abstand h
 alten\, Maske bei und auf zur traditionellen Raritätensuche oder bis dahin i
 st alles gefallen INFO www.oldthing.de/berlinEin Muss für jeden Antik-\, Design
 \, Nostagie- &amp\; Retrofan !Wir erwarten mehr als 200-500 Händler aus alle
 n Bundesländern und dem Ausland mit alten Möbel\, interessanten Antiquitäten\, he
 rausragendem Möbel- &amp\; Produkt-Design\, Kunst und schrägem Second Hand. Int
 ernationale Imbisse\, Cafemobile und frisch gezapftes Bier sorgen fürs leiblich
 e Wohl.HÄNDLER kommen mit frischer Ware aus ganz Deutschland (Kfz + Übernach
 tung vor Ort am Stand möglich und BUCHEN Ihre Standfläche hier &gt\; www.oldthi
 ng.de/riesenflohmarktEine weitere Attraktion ist die oldthing Sammlerbörse Vo
 n allen Wettern geschützt werden im Saal der Tribünenhalle 30 Händler &amp\; Sammler v
 on alten Ansichtskarten\, Briefmarken &amp\; Münzen Ihre Schätze anbieten.Infos u
 nd Anmeldung https://oldthing.de/riesenflohmarkt#antiquitäten #flohmarkt #an
 tikmarkt #nostalgiemarkt #antikmeile#berlin #retromarkt #vintage #50er #40
 er #30er #20er #designmarkt #designevent #vintage #vintagelover #designer 
 #midcentury #bauhaus #instahome #bohemian #interiordesign #furniture #retr
 o #bauhauslove #ostalgie #ddr #trabrennbahnkarlshorst #midcentury #sammler
  #trash #oldthing #trödelmarkt #design #Secondhand #sammeln #raritäten #kunst #
 börse #riesenflohmarkt\n\nViel Spass wünscht Gratis-in-Berlin\n\nLink zum Tip: \nZ
 u den Gratis-in-Berlin Angeboten: http://www.gratis-in-berlin.de\n
DTSTART;VALUE=DATE:20260801
DTEND;VALUE=DATE:20260803
SUMMARY:ANTIK & DESIGN GroßFLOHMARKT TRABRENNBAHN KARLSHORST
END:VEVENT
END:VCALENDAR
