BEGIN:VCALENDAR
VERSION:2.0
PRODID:-//Gratis-in-Berlin//NONSGML kigkonsult.se iCalcreator 2.14//
METHOD:PUBLISH
X-WR-CALNAME:Gratis-in-Berlin Tip Kalender
X-WR-CALDESC:Erhalte Gratis-in-Berlin Tips in deinem Kalender
BEGIN:VEVENT
UID:20260421T120151UTC-95007oJul2@Gratis-in-Berlin
DTSTAMP:20260421T120151Z
DESCRIPTION:Eintritt frei! KFZ Parkplatz am Gelände zu ? 5\,-An Vielfalt und 
 Stimmung nicht zu schlagen lädt der Antikevent zum gemeinsamen Stöbern ein. Rar
 itätenfaktor sehr hoch! Gehobene Trödelkultur par excellence. Ob Seltenes\, Wer
 tvolles oder Originelles\, der polyglotte Markt gilt als einer der bestsor
 tiertesten weit und breit.Der Eintritt für Besucher ist frei ! Abstand halten\,
  Maske bei und auf zur traditionellen Raritätensuche oder bis dahin ist alle
 s gefallen INFO www.oldthing.de/berlinEin Muss für jeden Antik-\, Design\, Nost
 agie- &amp\; Retrofan !Wir erwarten mehr als 200-500 Händler aus allen Bunde
 sländern und dem Ausland mit alten Möbel\, interessanten Antiquitäten\, herausrag
 endem Möbel- &amp\; Produkt-Design\, Kunst und schrägem Second Hand. Internatio
 nale Imbisse\, Cafemobile und frisch gezapftes Bier sorgen fürs leibliche Wohl.
 HÄNDLER kommen mit frischer Ware aus ganz Deutschland (Kfz + Übernachtung vo
 r Ort am Stand möglich und BUCHEN Ihre Standfläche hier &gt\; www.oldthing.de/r
 iesenflohmarktEine weitere Attraktion ist die oldthing Sammlerbörse Von allen
  Wettern geschützt werden im Saal der Tribünenhalle 30 Händler &amp\; Sammler von alte
 n Ansichtskarten\, Briefmarken &amp\; Münzen Ihre Schätze anbieten.Infos und Anme
 ldung https://oldthing.de/riesenflohmarkt#antiquitäten #flohmarkt #antikmark
 t #nostalgiemarkt #antikmeile#berlin #retromarkt #vintage #50er #40er #30e
 r #20er #designmarkt #designevent #vintage #vintagelover #designer #midcen
 tury #bauhaus #instahome #bohemian #interiordesign #furniture #retro #bauh
 auslove #ostalgie #ddr #trabrennbahnkarlshorst #midcentury #sammler #trash
  #oldthing #trödelmarkt #design #Secondhand #sammeln #raritäten #kunst #börse #rie
 senflohmarkt\n\nViel Spass wünscht Gratis-in-Berlin\n\nLink zum Tip: \nZu den G
 ratis-in-Berlin Angeboten: http://www.gratis-in-berlin.de\n
DTSTART;VALUE=DATE:20261107
DTEND;VALUE=DATE:20261109
SUMMARY:ANTIK & DESIGN GroßFLOHMARKT TRABRENNBAHN KARLSHORST
END:VEVENT
END:VCALENDAR
