BEGIN:VCALENDAR
VERSION:2.0
PRODID:-//Gratis-in-Berlin//NONSGML kigkonsult.se iCalcreator 2.14//
METHOD:PUBLISH
X-WR-CALNAME:Gratis-in-Berlin Tip Kalender
X-WR-CALDESC:Erhalte Gratis-in-Berlin Tips in deinem Kalender
BEGIN:VEVENT
UID:20260419T153820UTC-2830Vtg2pd@Gratis-in-Berlin
DTSTAMP:20260419T153820Z
DESCRIPTION:Das Frühjahr ist immer eine wunderbare Zeit zum Sortieren und Ausmis
 ten\, auch im Kleiderschrank! Nicht alles\, was mal begeistert gekauft wur
 de\, hat sich im Alltag durchgesetzt\, manches passt schlichtweg nicht meh
 r. Für alle\, die ungenutzte Kleidung gern nachhaltig weitergeben oder gebrauch
 t von anderen übernehmen möchten\, veranstalten wir eine Kleidertauschparty.Kommt 
 gern mit euren aussortierten Kleidungsstücken vorbei. Diese sollten sauber und 
 nicht (stark) beschädigt sein.Zum Ablauf:13-15 Uhr: Kleidertauschparty ? ihr
  gebt eure mitgebrachte Kleidung ab und dürft euch bis zu max. 10 Kleidungsstücke au
 ssuchen15-16 Uhr: Umsonstladen ? alle übrig gebliebenen Textilien dürfen nach Lust u
 nd Laune mitgenommen werdenSamstag\, 25. April 2026 // 13-15 Uhr- Stadttei
 lbibliothek Friedrich von Raumer- Eintritt frei- ohne VoranmeldungRegeln f
 ür die Teilnahme:? Bitte nicht mehr als 10 Kleidungsstücke mitbringen.? Max. 10 Klei
 dungsstücke dürfen mitgenommen werden.? Die Kleidung muss frisch gewaschen sein.? Ke
 ine Socken oder Unterwäsche mitbringen.? Die Kleidungsstücke sollten nicht stark 
 beschädigt sein.\n\nViel Spass wünscht Gratis-in-Berlin\n\nLink zum Tip: https://
 www.gratis-in-berlin.de/schatztruhe/item/2077711-kleidertauschparty\nZu de
 n Gratis-in-Berlin Angeboten: http://www.gratis-in-berlin.de\n
DTSTART;VALUE=DATE:20260425
DTEND;VALUE=DATE:20260426
SUMMARY:Kleidertauschparty
END:VEVENT
END:VCALENDAR
