BEGIN:VCALENDAR
VERSION:2.0
PRODID:-//Gratis-in-Berlin//NONSGML kigkonsult.se iCalcreator 2.14//
METHOD:PUBLISH
X-WR-CALNAME:Gratis-in-Berlin Tip Kalender
X-WR-CALDESC:Erhalte Gratis-in-Berlin Tips in deinem Kalender
BEGIN:VEVENT
UID:20260419T130201UTC-2794XBikbb@Gratis-in-Berlin
DTSTAMP:20260419T130201Z
DESCRIPTION:Das Nähcafé des Brunnenviertel e.V. öffnet am Mittwoch\, dem 18. März\, 
 wegen Raumsanierung nochmals im Ausweichquartier. Zwischen 17 und 19 Uhr k
 önnen in der PA58 in der Prinzenallee 58 im Soldiner Kiez alte Kleidungsstücke rep
 ariert und aufgewertet werden.\n\nViel Spass wünscht Gratis-in-Berlin\n\nLink z
 um Tip: \nZu den Gratis-in-Berlin Angeboten: http://www.gratis-in-berlin.d
 e\n
DTSTART;VALUE=DATE:20260318
DTEND;VALUE=DATE:20260319
SUMMARY:Reparieren und upcylen: Nähcafé in der PA58
END:VEVENT
END:VCALENDAR
