BEGIN:VCALENDAR
VERSION:2.0
PRODID:-//Gratis-in-Berlin//NONSGML kigkonsult.se iCalcreator 2.14//
METHOD:PUBLISH
X-WR-CALNAME:Gratis-in-Berlin Tip Kalender
X-WR-CALDESC:Erhalte Gratis-in-Berlin Tips in deinem Kalender
BEGIN:VEVENT
UID:20260419T171107UTC-6207UHUcFb@Gratis-in-Berlin
DTSTAMP:20260419T171107Z
DESCRIPTION:Die neue Flohmarktsaison steht vor der Tür! Am 03. Mai 2026 laden wi
 r euch wieder herzlich zu unserem ersten von 3 Flohmärkten ein\, der entlang
  der Achillesstraße in Karow stattfinden wird. Seit über 10 Jahren erfreut sich 
 unserer Markt großer Beliebtheit! Freut euch auf rund 180 Stände\, die eine V
 ielzahl von Schätzen bereithalten ? von Kleidung über Selbstgemachtes bis hin zu 
 Spielzeug\, Möbeln und antiken Fundstücken. Hier ist für jeden etwas dabei!Von 10 bis 1
 6 Uhr könnt ihr gemütlich entlang der Stände schlendern und die besten Schnäppchen erg
 attern. Für euer leibliches Wohl sorgen unsere Foodtrucks\, die köstliche Speisen 
 anbieten. Und auch die kleinen Besucher kommen nicht zu kurz: Auf der beli
 ebten Hüpfburg können sie sich austoben oder sich kreativ schminken lassen.Die Anm
 eldung für die Stände findet im Restaurant ?India Haus? in der Achillesstraße 62\,
  13125 Berlin-Karow statt. Am 28. März 2026 von 09:00 Uhr bis 13:00 Uhr könnt i
 hr euch anmelden. Verpass nicht die Gelegenheit und trag dir diesen Termin
  gleich in deinen Kalender ein!Unsere Standflächen kosten 25? für 3 Meter und sin
 d zum Selbstaufbau (ein Tisch muss also mitgebracht werden). Zusätzlich wird
  es in diesem Jahr wieder einige Premiumstandflächen für 30? geben. Diese sind et
 was größer und haben noch einige Vorteile. Alle Kinderplätze kosten 4?. Eine Ka
 ution ist ebenfalls bei der Buchung fällig und wird am Veranstaltungsende wi
 eder ausgezahlt. Seid dabei und erlebt einen unvergesslichen Tag voller Sp
 aß und Schnäppchen beim großen Karower Familien-Flohmarkt! Wir freuen uns auf 
 euch!\n\nViel Spass wünscht Gratis-in-Berlin\n\nLink zum Tip: https://www.grati
 s-in-berlin.de/schatztruhe/item/2077792-karower-familien-flohmarkt\nZu den
  Gratis-in-Berlin Angeboten: http://www.gratis-in-berlin.de\n
DTSTART;VALUE=DATE:20260503
DTEND;VALUE=DATE:20260504
SUMMARY:Karower Familien-Flohmarkt
END:VEVENT
END:VCALENDAR
