BEGIN:VCALENDAR
VERSION:2.0
PRODID:-//Gratis-in-Berlin//NONSGML kigkonsult.se iCalcreator 2.14//
METHOD:PUBLISH
X-WR-CALNAME:Gratis-in-Berlin Tip Kalender
X-WR-CALDESC:Erhalte Gratis-in-Berlin Tips in deinem Kalender
BEGIN:VEVENT
UID:20260419T171102UTC-3465ihxc5t@Gratis-in-Berlin
DTSTAMP:20260419T171102Z
DESCRIPTION:Am 05. Juli 2026 laden wir euch wieder herzlich zu unserem große
 n Familien-Flohmarkt ein\, der entlang der Achillesstraße in Karow stattfin
 den wird. Seit über 10 Jahren erfreut sich unserer Markt großer Beliebtheit! Fre
 ut euch auf rund 180 Stände\, die eine Vielzahl von Schätzen bereithalten ? vo
 n Kleidung über Selbstgemachtes bis hin zu Spielzeug\, Möbeln und antiken Fundstücken. 
 Hier ist für jeden etwas dabei!Von 10 bis 16 Uhr könnt ihr gemütlich entlang der Stände s
 chlendern und die besten Schnäppchen ergattern. Für euer leibliches Wohl sorgen u
 nsere Foodtrucks\, die köstliche Speisen anbieten. Und auch die kleinen Besuc
 her kommen nicht zu kurz: Auf der beliebten Hüpfburg können sie sich austoben oder
  sich kreativ schminken lassen.Die Anmeldung für die Stände findet im Restaurant 
 ?India Haus? in der Achillesstraße 62\, 13125 Berlin-Karow statt. Am 06. Ju
 ni 2026 von 09:00 Uhr bis 13:00 Uhr könnt ihr euch anmelden. Verpass nicht di
 e Gelegenheit und trag dir diesen Termin gleich in deinen Kalender ein! Un
 sere Standflächen kosten 25? für 3 Meter und sind zum Selbstaufbau (ein Tisch mus
 s also mitgebracht werden). Zusätzlich wird es in diesem Jahr wieder einige 
 Premiumstandflächen für 30? geben. Diese sind etwas größer und haben noch einige Vor
 teile. Alle Kinderplätze kosten 4?. Eine Kaution ist ebenfalls bei der Buchu
 ng fällig und wird am Veranstaltungsende wieder ausgezahlt. Seid dabei und e
 rlebt einen unvergesslichen Tag voller Spaß und Schnäppchen beim großen Karowe
 r Familien-Flohmarkt! Wir freuen uns auf euch!\n\nViel Spass wünscht Gratis-in-
 Berlin\n\nLink zum Tip: https://www.gratis-in-berlin.de/schatztruhe/item/2
 077793-karower-familien-flohmarkt\nZu den Gratis-in-Berlin Angeboten: http
 ://www.gratis-in-berlin.de\n
DTSTART;VALUE=DATE:20260705
DTEND;VALUE=DATE:20260706
SUMMARY:Karower Familien-Flohmarkt
END:VEVENT
END:VCALENDAR
