BEGIN:VCALENDAR
VERSION:2.0
PRODID:-//Gratis-in-Berlin//NONSGML kigkonsult.se iCalcreator 2.14//
METHOD:PUBLISH
X-WR-CALNAME:Gratis-in-Berlin Tip Kalender
X-WR-CALDESC:Erhalte Gratis-in-Berlin Tips in deinem Kalender
BEGIN:VEVENT
UID:20260419T171103UTC-81320K5xWA@Gratis-in-Berlin
DTSTAMP:20260419T171103Z
DESCRIPTION:Am 06. September 2026 laden wir euch wieder herzlich zu unserem
  großen Familien-Flohmarkt ein\, der entlang der Achillesstraße in Karow sta
 ttfinden wird. Seit über 10 Jahren erfreut sich unserer Markt großer Beliebtheit
 ! Freut euch auf rund 180 Stände\, die eine Vielzahl von Schätzen bereithalten
  ? von Kleidung über Selbstgemachtes bis hin zu Spielzeug\, Möbeln und antiken Fun
 dstücken. Hier ist für jeden etwas dabei!Von 10 bis 16 Uhr könnt ihr gemütlich entlang der S
 tände schlendern und die besten Schnäppchen ergattern. Für euer leibliches Wohl sor
 gen unsere Foodtrucks\, die köstliche Speisen anbieten. Und auch die kleinen 
 Besucher kommen nicht zu kurz: Auf der beliebten Hüpfburg können sie sich austoben
  oder sich kreativ schminken lassen.Die Anmeldung für die Stände findet im Restau
 rant ?India Haus? in der Achillesstraße 62\, 13125 Berlin-Karow statt. Am 0
 8. August 2026 von 09:00 Uhr bis 13:00 Uhr könnt ihr euch anmelden. Verpass n
 icht die Gelegenheit und trag dir diesen Termin gleich in deinen Kalender 
 ein!Unsere Standflächen kosten 25? für 3 Meter und sind zum Selbstaufbau (ein Tis
 ch muss also mitgebracht werden). Zusätzlich wird es in diesem Jahr wieder e
 inige Premiumstandflächen für 30? geben. Diese sind etwas größer und haben noch eini
 ge Vorteile. Alle Kinderplätze kosten 4?. Eine Kaution ist ebenfalls bei der
  Buchung fällig und wird am Veranstaltungsende wieder ausgezahlt.Seid dabei 
 und erlebt einen unvergesslichen Tag voller Spaß und Schnäppchen beim großen K
 arower Familien-Flohmarkt! Wir freuen uns auf euch!\n\nViel Spass wünscht Grati
 s-in-Berlin\n\nLink zum Tip: https://www.gratis-in-berlin.de/schatztruhe/i
 tem/2077795-karower-familien-flohmarkt\nZu den Gratis-in-Berlin Angeboten:
  http://www.gratis-in-berlin.de\n
DTSTART;VALUE=DATE:20260906
DTEND;VALUE=DATE:20260907
SUMMARY:Karower Familien-Flohmarkt
END:VEVENT
END:VCALENDAR
