BEGIN:VCALENDAR
VERSION:2.0
PRODID:-//Gratis-in-Berlin//NONSGML kigkonsult.se iCalcreator 2.14//
METHOD:PUBLISH
X-WR-CALNAME:Gratis-in-Berlin Tip Kalender
X-WR-CALDESC:Erhalte Gratis-in-Berlin Tips in deinem Kalender
BEGIN:VEVENT
UID:20260421T122349UTC-3184CvECfv@Gratis-in-Berlin
DTSTAMP:20260421T122349Z
DESCRIPTION:Wir bauen zusammen Häuschen (Nisthilfen) für Bienen und VögelDafür nutzen wir 
 Holz und andere natürliche Materialien. Die Häuschen schenken wir ehrenamtlich en
 gagierten Frauen.Sie brauchen die Häuschen für ihre Gemeinschaftsgärten und Grünflächen.
  Dort leben viele Vögel und Bienen. In der Fachsprache werden die Häuschen ?Nis
 thilfen? genannt. In unseren Bau-Workshops lernst du:Welche Vogel- und Bie
 nen es in Berlin gibtWelche Häuschen (Nisthilfen) für die Tiere gut und sinnvoll 
 sindWie man mit Holz arbeitetWelches Werkzeug man dafür benutztDie Häuschen (Nist
 hilfen) schenken wir dem Gemeinschaftsgarten wachsenlassen und einem ?Wild
 pflanzen-Projekt?. Somit helfen wir der Natur und der Umwelt. Die Veransta
 ltung findet im Rahmen des Projekts ?Klimaschutz integriert ? Frauen für eine b
 essere Umwelt? statt. An den Terminen bauen wir Nisthilfen. Komm einfach v
 orbei\, wann es dir passt ? gerne auch mit deinen Kindern: Montag\, den 23
 .02.26\, von 17:00 Uhr bis 20:00 Uhr Donnerstag\, den 26.02.26\, von 17:00
  Uhr bis 20:00 Uhr Samstag\, den 28.02.26\, von 15:00 Uhr bis 18:00 UhrTei
 lnahme:Der Workshop ist kostenfrei und ohne Anmeldung. Wenn du uns nicht g
 leich findest\, ruf gern an unter: 0157 58151409.  Der Workshop richtet si
 ch an Frauen aus allen Kulturen. Du lernst Deutsch oder willst du dein Deu
 tsch verbessern?Dann bist du hier genau richtig! Bei uns kannst du Deutsch
  sprechen und in entspannter Atmosphäre üben. Du sprichst Deutsch als Mutter- ode
 r Zweitsprache?Unsere Deutschlernenden freuen sich über Gespräche mit dir. Durch 
 den direkten Austausch können sie ihre Sprachkenntnisse praxisnah verbessern.
 In ruhiger und freundlicher Umgebung habt ihr außerdem die Möglichkeit\, euch 
 über Umwelt-\, Klima- und Naturschutz auszutauschen ? und dabei neue Menschen u
 nd spannende Orte kennenzulernen.Wir tauschen uns über Umwelt-\, Klima- und Nat
 urschutz aus und lernen neue Leute und Orte kennen.Das Projekt Klimaschutz
  integriert ? Vielfalt für eine bessere Umwelt wird gefördert durch das Bundesmini
 sterium des Innern\n\nViel Spass wünscht Gratis-in-Berlin\n\nLink zum Tip: \nZu
  den Gratis-in-Berlin Angeboten: http://www.gratis-in-berlin.de\n
DTSTART;VALUE=DATE:20260421
DTEND;VALUE=DATE:20260422
SUMMARY:Wir bauen zusammen Häuschen für Bienen und Vögel - Workshop für Frauen
END:VEVENT
END:VCALENDAR
