BEGIN:VCALENDAR
VERSION:2.0
PRODID:-//Gratis-in-Berlin//NONSGML kigkonsult.se iCalcreator 2.14//
METHOD:PUBLISH
X-WR-CALNAME:Gratis-in-Berlin Tip Kalender
X-WR-CALDESC:Erhalte Gratis-in-Berlin Tips in deinem Kalender
BEGIN:VEVENT
UID:20260423T083647UTC-7605B5nBjk@Gratis-in-Berlin
DTSTAMP:20260423T083647Z
DESCRIPTION:Zum Welttag des Buches wird es kreativ: Bei unserem Workshop ?B
 edazzle your Book? werden Buchcover individuell gestaltet und zu echten Hi
 nguckern. Mit Strasssteinen\, Glitzer\, Farben und anderen kreativen Mater
 ialien kannst du dein Buchcover verzieren und in ein persönliches Unikat verw
 andeln. Egal ob Roman\, Tagebuch oder Notizbuch ? bring einfach dein eigen
 es Buch mit\, alles andere stellen wir bereit. Der Fantasie sind keine Gre
 nzen gesetzt. Gestalte dein persönliches Lieblingsstück! Hinweis: Bitte ein eigene
 s Buch zum Verzieren mitbringen.Alter: geeignet ab 12 JahrenUhrzeit: 18-20
 :30 UhrBildquelle Stadtbibliothek Mitte/Buch: Hanser Verlag\n\nViel Spass 
 wünscht Gratis-in-Berlin\n\nLink zum Tip: https://www.gratis-in-berlin.de/schat
 ztruhe/item/2078038-buecher-bedazzling-bling-your-book\nZu den Gratis-in-B
 erlin Angeboten: http://www.gratis-in-berlin.de\n
DTSTART;VALUE=DATE:20260423
DTEND;VALUE=DATE:20260424
SUMMARY:Bücher bedazzling / Bling your Book
END:VEVENT
END:VCALENDAR
