BEGIN:VCALENDAR
VERSION:2.0
PRODID:-//Gratis-in-Berlin//NONSGML kigkonsult.se iCalcreator 2.14//
METHOD:PUBLISH
X-WR-CALNAME:Gratis-in-Berlin Tip Kalender
X-WR-CALDESC:Erhalte Gratis-in-Berlin Tips in deinem Kalender
BEGIN:VEVENT
UID:20260421T151507UTC-9566ngvUjW@Gratis-in-Berlin
DTSTAMP:20260421T151507Z
DESCRIPTION:Am Sonntag\, 10. Mai öffnet der blühende Garten der Weddinger Inspektor
  Villa (Gerichtstraße 36\, 13347 Berlin) seine Pforten für den Flohmarkt 'Krempe
 l de Luxe'. An rund 25 Ständen suchen Alltagsgegenstände\, Erbstücke und Kurioses n
 eue Besitzerinnen und Besitzer. Von 11 bis 16 Uhr können Besucherinnen und Be
 sucher in entspannter Atmosphäre auf Schatzsuche gehen. Das Angebot besteht 
 beispielsweise aus (Kinder)Kleidern\, Schuhen\, Hüten\, (Mode)Schmuck\, Büchern für Kinde
 r und Erwachsene\, Schallplatten\, DVDs\, Spielzeug\, Haushaltsgegenständen\
 , Kleinmöbeln\, Elektronik\, Elektrogeräte\, Fahrradteilen\, Sportgeräten und Lam
 pen. Der Krempel de Luxe Flohmarkt ist eine private Veranstaltung\, die de
 n Kiez zusammenbringt. Alle Verkäufer und Verkäuferinnen sind Privatpersonen\,
  meist Freund*innen\, Nachbar*innen und Bekannte aus der Nachbarschaft. ?M
 ir ist es wichtig\, dass aussortierte Sachen ein zweites Leben finden?\, e
 rklärt die Veranstalterin Claudia Knobloch\, ?und dass das Verkaufen auf dem
  Flohmarkt Spaß macht. Unsere Besucher profitieren von der familiären Atmosph
 äre und günstigen Preisen.? In diesem Jahr werden an einige Ständen auch hochwertig
 e Antiquitäten angeboten: Porzellan von Royal Copenhagen\, KPM und Rosenthal
 \, Vasen\, Glasobjekte\, Deckeldosen\, aber auch Silberschmuck von namhaft
 en Herstellern von Jugendstil bis Mid-Century. Kleine Stahlstiche und alte
  Blechdosen sind ebenfalls im Angebot. Im Rahmen des Flohmarkts können auch P
 okémon-Sammelkarten getauscht werden. Andere Sammelkarten wie Fußball\, Ninja
 go oder Fortnite werden zum Verkauf angeboten. Im silent green Kulturquart
 ier gleich nebenan findet an diesem Sonntag der Public Day des Charaterfes
 tivals Pictoplasma statt. Dazu passend gibt es einen Stand mit vielen Figu
 ren ? von Schlümpfen über Überraschungseiern bis hin zu 70er Jahre Setzkastenfiguren
 . Die Veranstaltung findet bei überwiegend schönem Wetter statt. Der Eintritt ist 
 frei. Der Flohmarkt ist am besten mit den öffentlichen Verkehrsmitteln (S/U-B
 ahn Wedding) oder mit dem Rad zu erreichen. Es stehen aber auch (kostenpfl
 ichtige) Parkplätze zur Verfügung.\n\nViel Spass wünscht Gratis-in-Berlin\n\nLink zum 
 Tip: \nZu den Gratis-in-Berlin Angeboten: http://www.gratis-in-berlin.de\n
DTSTART;VALUE=DATE:20260510
DTEND;VALUE=DATE:20260511
SUMMARY:Krempel de Luxe Flohmarkt in Weddinger Inspektor Villa
END:VEVENT
END:VCALENDAR
