BEGIN:VCALENDAR
VERSION:2.0
PRODID:-//Gratis-in-Berlin//NONSGML kigkonsult.se iCalcreator 2.14//
METHOD:PUBLISH
X-WR-CALNAME:Gratis-in-Berlin Tip Kalender
X-WR-CALDESC:Erhalte Gratis-in-Berlin Tips in deinem Kalender
BEGIN:VEVENT
UID:20260419T201808UTC-6928H7ZcB7@Gratis-in-Berlin
DTSTAMP:20260419T201808Z
DESCRIPTION:?Welttag des Buches? am 23. April 2026 in der Ingeborg-Drewitz-
 BibliothekZum ?Welttag des Buches? laden die Stadtbibliothek und die Jugen
 dkunstschule zu kreativen Aktionen für Kinder und Jugendliche ein. Kinder ab 6 
 Jahren können gemeinsam mit unserer Buchbinderin ihr ganz persönliches Lesezeich
 en für ihr Lieblingsbuch anfertigen oder unter Anleitung von Künstlerinnen der Jugen
 dkunstschule aus alten Buchseiten Tulpen\, Narzissen und Krokusse zu neuem
  Leben erwachen lassen und ihre eigenen fröhlichen Frühblüher für Zuhause gestalten. Be
 im ?Book Bedazzeln? können Jugendliche ihre Bücher mit funkelnden Verzierungen\, F
 arben und kreativen Elementen individuell gestalten und optisch aufwerten.
  Mit Glitzersteinen\, Stickern und anderen Deko-Elementen kann jedes Buch 
 in ein einzigartiges Kunstwerk verwandelt werden. Das Material wird vor Or
 t gestellt\, aber wer möchte\, kann auch eigene Bastelmaterialien mitbringen.
  EINTRITT: frei. Ohne Voranmeldung. Weitere Informationen unter Tel.: (030
 ) 90299 2410 oder per Mail an: event-bibliothek@ba-sz.berlin.de ORT: Ingeb
 org-Drewitz-Bibliothek\, Grunewaldstr. 3\, 12165 Berlin\n\nViel Spass wünscht G
 ratis-in-Berlin\n\nLink zum Tip: \nZu den Gratis-in-Berlin Angeboten: http
 ://www.gratis-in-berlin.de\n
DTSTART;VALUE=DATE:20260423
DTEND;VALUE=DATE:20260424
SUMMARY:'Welttag des Buches' in der Ingeborg-Drewitz-Bibliothek 
END:VEVENT
END:VCALENDAR
