BEGIN:VCALENDAR
VERSION:2.0
PRODID:-//Gratis-in-Berlin//NONSGML kigkonsult.se iCalcreator 2.14//
METHOD:PUBLISH
X-WR-CALNAME:Gratis-in-Berlin Tip Kalender
X-WR-CALDESC:Erhalte Gratis-in-Berlin Tips in deinem Kalender
BEGIN:VEVENT
UID:20260421T111003UTC-5294OuMP2R@Gratis-in-Berlin
DTSTAMP:20260421T111003Z
DESCRIPTION:13 Jahre Jubiläum = 130 Liter frisch gebrautes Festbier von Heide
 npeters\, eine Schnitzeljagd mit Freibier\, Seifenblasen und Führungen durch 13
  Jahre Berliner Street Food Geschichte.Der Street Food Thursday Markt in d
 er historischen Markthalle Neun präsentiert von 17 bis 22 Uhr Bürgersteig-Delikat
 essen aus Berlin und der ganzen Welt - alles unter einem Dach\, jeden Donn
 erstagabend. Experimentierfreudige junge Köchinnen und Köche zeigen eine globale
  kulinarische Palette von englischen Pies über koreanisches Kimchi (Foto zeigt 
 Selbstgemachtes aus einem Kimchi-Kochkurs \;-) bis zu handgemachten Allgäuer
  Kässpatzen und Brandenburger Tapas. Das Sortiment und die 'Länder' sollen jed
 e Woche wechseln.markthalleneun.de\n\nViel Spass wünscht Gratis-in-Berlin\n\nLi
 nk zum Tip: \nZu den Gratis-in-Berlin Angeboten: http://www.gratis-in-berl
 in.de\n
DTSTART;VALUE=DATE:20260416
DTEND;VALUE=DATE:20260417
SUMMARY:Jubiläumsfeier 13 Jahre Street Food Thursday Markt 
END:VEVENT
END:VCALENDAR
