BEGIN:VCALENDAR
VERSION:2.0
PRODID:-//Gratis-in-Berlin//NONSGML kigkonsult.se iCalcreator 2.14//
METHOD:PUBLISH
X-WR-CALNAME:Gratis-in-Berlin Tip Kalender
X-WR-CALDESC:Erhalte Gratis-in-Berlin Tips in deinem Kalender
BEGIN:VEVENT
UID:20260419T171052UTC-6321l34db1@Gratis-in-Berlin
DTSTAMP:20260419T171052Z
DESCRIPTION:Der Frühling ist immer eine wunderbare Zeit zum Sortieren und Ausmis
 ten\, auch im Kleiderschrank! Nicht alles\, was mal begeistert gekauft wur
 de\, hat sich im Alltag durchgesetzt\, manches passt schlichtweg nicht meh
 r. Für alle\, die ungenutzte Kleidung\, gern nachhaltig weitergeben oder gebrau
 cht von anderen übernehmen möchten\, veranstalten wir wieder eine Kleidertauschpar
 ty.Kommt gern mit euren aussortierten Kleidungsstücken vorbei. Diese sollten sa
 uber und nicht (stark) beschädigt sein.Zum Ablauf: 10-12 Uhr: Kleidertauschp
 arty ? ihr gebt eure mitgebrachte Kleidung ab und dürft euch bis zu max. 10 Kle
 idungsstücke aussuchen12 Uhr: Checkout ? alle verlassen mit ihren Schätzen (max. 
 10 Kleidungsstücke) den WerkRaumab 12 Uhr: Umsonstladen ? alle übrig gebliebenen Tex
 tilien dürfen nach Lust und Laune mitgenommen werdenSamstag\, 30. Mai 2026 // 1
 0-12 Uhr- Werkraum der Bezirkszentralbibliothek Pablo Neruda- Eintritt fre
 i- Vorherige Anmeldung erbeten unter diesem Link: https://pretix.eu/bibxha
 in/kleidertausch28/Regeln für die Teilnahme:? Bitte nicht mehr als 10 Kleidungs
 stücke für Erwachsene mitbringen.? Max. 10 Kleidungsstücke dürfen mitgenommen werden.? Die Kle
 idung muss frisch gewaschen sein.? Keine Schuhe\, Socken oder Unterwäsche mi
 tbringen.? Die Kleidungsstücke sollten nicht stark beschädigt sein.\n\nViel Spass
  wünscht Gratis-in-Berlin\n\nLink zum Tip: https://www.gratis-in-berlin.de/scha
 tztruhe/item/2078384-kleidertauschparty\nZu den Gratis-in-Berlin Angeboten
 : http://www.gratis-in-berlin.de\n
DTSTART;VALUE=DATE:20260530
DTEND;VALUE=DATE:20260531
SUMMARY: Kleidertauschparty
END:VEVENT
END:VCALENDAR
