BEGIN:VCALENDAR
VERSION:2.0
PRODID:-//Gratis-in-Berlin//NONSGML kigkonsult.se iCalcreator 2.14//
METHOD:PUBLISH
X-WR-CALNAME:Gratis-in-Berlin Tip Kalender
X-WR-CALDESC:Erhalte Gratis-in-Berlin Tips in deinem Kalender
BEGIN:VEVENT
UID:20260421T151535UTC-34429ZrBKC@Gratis-in-Berlin
DTSTAMP:20260421T151535Z
DESCRIPTION:Wir möchten in einem offenen und vielfältigen Umfeldleben. Aber wie 
 können wir als Gesellschaft besserzusammenfinden? In diesem Workshop für Menschen 
 aus der deutschen Mehrheitsgesellschaft beleuchten wirunterschiedliche For
 men von Diskriminierung\, schaffen Bewusstsein für die eigenen Privilegien\, un
 d regen dazu an\, stärker für soziale Verbundenheit einzutreten.Dieser Workshop r
 ichtet sich ausschließlich an Menschen\, die sich als Teil der weißen privil
 egierten Mehrheitsgesellschaft sehen und lernen möchten\, wie sie sich solida
 risch undantirassistisch engagieren könnenIm Workshop erkunden wir bewusste u
 nd unbewusste Formen von Diskriminierung und beschäftigen uns damit\, wie wi
 r sie uns bewusster machen\, um Erfahrungen von Unterdrückungsensibler gegenübertret
 en zu können. Wir beleuchten unsere Privilegien und zeigen auf\, wie wir sie 
 nutzen können\, um gemeinsam gegen Ausgrenzung und soziale Ungleichheit vorzu
 gehen. Nicht zuletzt beschäftigen wir uns damit\, wie wir Menschen\, die Ras
 sismus erfahren\, solidarisieren und zielgerichtet dagegen vorgehen können.Wo
 rkshop-Leitung:A?k?n-Hayat Do?an (Diversity- &amp\; Empowerment-Trainer)Ri
 ta Zobel (Diversity-Trainerin\, Facilitatorin)Teilnahme: kostenfreiFreitag
  + Samstag \, 08. + 09. Mai 2026jeweils von 12 - 15:30 UhrAnmeldung: mosai
 k-berlin@online.deDas Projekt wird gefördert mit Mitteln des Bezirklichen Int
 egrationsfonds Steglitz-Zehlendorf. Der Integrationsfonds ist eine Maßnahme
  des Gesamtkonzepts zur Integration und Partizipation Geflüchteter des Senats v
 on Berlin.\n\nViel Spass wünscht Gratis-in-Berlin\n\nLink zum Tip: \nZu den Gra
 tis-in-Berlin Angeboten: http://www.gratis-in-berlin.de\n
DTSTART;VALUE=DATE:20260508
DTEND;VALUE=DATE:20260510
SUMMARY:Diversität und Vielfalt - Workshop in der Ingeborg-Drewitz-Bibliothek
  in Steglitz
END:VEVENT
END:VCALENDAR
