BEGIN:VCALENDAR
VERSION:2.0
PRODID:-//Gratis-in-Berlin//NONSGML kigkonsult.se iCalcreator 2.14//
METHOD:PUBLISH
X-WR-CALNAME:Gratis-in-Berlin Tip Kalender
X-WR-CALDESC:Erhalte Gratis-in-Berlin Tips in deinem Kalender
BEGIN:VEVENT
UID:20260422T144931UTC-2073uCWHnU@Gratis-in-Berlin
DTSTAMP:20260422T144931Z
DESCRIPTION:Bring- &amp\; Share-Event mit youngcaritas Berlin und Letsact e
 .V.Euer Kleiderschrank braucht mal wieder Luft zum Atmen? Ihr habt Teile\,
  die noch absolut in Ordnung sind\, aber einfach nicht mehr zu euch passen
 ? Dann tauscht euch bei uns glücklich!Bei unserem Bring-&amp\;-Share-Event könnt i
 hr aussortierte Lieblingsstücke weiterziehen lassen ? und im Gegenzug neue Schätz
 e entdecken.Und wenn ihr gerade nichts zum Tauschen dabei habt: Gefundene 
 Lieblingsteile können gegen eine kleine Spende (für unsere ehrenamtlichen Projekte
  der youngcaritas) mitgenommen werden. So bleibt der Kleidertausch für alle off
 en.Alle nicht getauschten Teile spenden wir im Anschluss an die Caritas-Kl
 eiderkammer.Wir freuen uns auf einen bunten\, nachhaltigen Nachmittag mit 
 euch!\n\nViel Spass wünscht Gratis-in-Berlin\n\nLink zum Tip: https://www.grati
 s-in-berlin.de/26-schatztruhe/2078631-kleidertauschparty\nZu den Gratis-in
 -Berlin Angeboten: http://www.gratis-in-berlin.de\n
DTSTART;VALUE=DATE:20260614
DTEND;VALUE=DATE:20260615
SUMMARY:Kleidertauschparty
END:VEVENT
END:VCALENDAR
