BEGIN:VCALENDAR
VERSION:2.0
PRODID:-//Gratis-in-Berlin//NONSGML kigkonsult.se iCalcreator 2.14//
METHOD:PUBLISH
X-WR-CALNAME:Gratis-in-Berlin Tip Kalender
X-WR-CALDESC:Erhalte Gratis-in-Berlin Tips in deinem Kalender
BEGIN:VEVENT
UID:20260424T121521UTC-0395F9pLAP@Gratis-in-Berlin
DTSTAMP:20260424T121521Z
DESCRIPTION:Die Teilnehmer erkunden &amp\; beleben ihr ganzes Wesen? Entdec
 ken Sie das Zusammenspiel von Körper\, Gemüt und Seele.? Probieren Sie Energie spe
 ndende Lebensmittel und sprechen Sie über deren Wirkung auf Körper\, Gemüt und Seele.? 
 Entdecken Sie die Mechanismen des Gemüts und seine Auswirkungen auf Körper und See
 le.? Stellen Sie fest\, was das Gemüt braucht\, um seine eigenen Widerstände erfo
 lgreich zu überwinden.? Erfahren Sie\, wie eine gut ernährte Seele unser ganzes W
 esen beleben und verjüngen kann.? Setzen Sie sich persönliche Ziele für eine bessere Le
 bensweise.Snacks\, Handouts\, praktische Ratschläge\, Ernährungstipps und ansc
 hauliche PowerPoint-Folien sind Teil der ?inspirierenden Reise für Körper\, Gem
 üt und Seele.? Veranstaltet vom Sant Mat Verein.Vorgetragen von Referenten vor 
 Ort.Kontaktieren Sie uns:&nbsp\;knowthyself.berlin@gmail.comBesuchen Sie u
 ns:www.santmat-verein.dewww.knowthyself.org\n\nViel Spass wünscht Gratis-in-Ber
 lin\n\nLink zum Tip: \nZu den Gratis-in-Berlin Angeboten: http://www.grati
 s-in-berlin.de\n
DTSTART;VALUE=DATE:20260522
DTEND;VALUE=DATE:20260523
SUMMARY:Vitalität für Körper\, Gemüt und Seele - Praktische Schritte für ein erfülltes Leben
END:VEVENT
END:VCALENDAR
